BEGIN:VCALENDAR
VERSION:2.0
PRODID:-//Digital Impact Network - ECPv6.15.15//NONSGML v1.0//EN
CALSCALE:GREGORIAN
METHOD:PUBLISH
X-WR-CALNAME:Digital Impact Network
X-ORIGINAL-URL:https://digitalimpact.ch
X-WR-CALDESC:Veranstaltungen für Digital Impact Network
REFRESH-INTERVAL;VALUE=DURATION:PT1H
X-Robots-Tag:noindex
X-PUBLISHED-TTL:PT1H
BEGIN:VTIMEZONE
TZID:Europe/Zurich
BEGIN:DAYLIGHT
TZOFFSETFROM:+0100
TZOFFSETTO:+0200
TZNAME:CEST
DTSTART:20220327T010000
END:DAYLIGHT
BEGIN:STANDARD
TZOFFSETFROM:+0200
TZOFFSETTO:+0100
TZNAME:CET
DTSTART:20221030T010000
END:STANDARD
BEGIN:DAYLIGHT
TZOFFSETFROM:+0100
TZOFFSETTO:+0200
TZNAME:CEST
DTSTART:20230326T010000
END:DAYLIGHT
BEGIN:STANDARD
TZOFFSETFROM:+0200
TZOFFSETTO:+0100
TZNAME:CET
DTSTART:20231029T010000
END:STANDARD
BEGIN:DAYLIGHT
TZOFFSETFROM:+0100
TZOFFSETTO:+0200
TZNAME:CEST
DTSTART:20240331T010000
END:DAYLIGHT
BEGIN:STANDARD
TZOFFSETFROM:+0200
TZOFFSETTO:+0100
TZNAME:CET
DTSTART:20241027T010000
END:STANDARD
END:VTIMEZONE
BEGIN:VEVENT
DTSTART;TZID=Europe/Zurich:20230907T173000
DTEND;TZID=Europe/Zurich:20230907T190000
DTSTAMP:20260426T030921
CREATED:20230221T081442Z
LAST-MODIFIED:20230221T084842Z
UID:10000114-1694107800-1694113200@digitalimpact.ch
SUMMARY:WRT Digital - Geschäftsprozesse digitalisieren
DESCRIPTION:Freigabe von Ferien mit einem Klick\, Genehmigung von Rechnungen innert Sekunden\, Identifikation und Einlass von Personen mittels QR-Code oder einfach eine digitale Ablage statt Schränke voller Papier: die Digitalisierung von Geschäftsprozessen bietet unzählige Möglichkeiten. Digitale Prozesse befreien Ihr Unternehmen von mühsamer Handarbeit\, schaffen Transparenz und optimieren Abläufe. Wir zeigen Ihnen gerne die Vorteile von digitalisierten Prozessen für Ihren Geschäftsalltag. \n\n\n\nIm Anschluss findet ein Apéro statt mit der Möglichkeit zum Austausch. Wir freuen uns über Ihre Teilnahme. \n\n\n\nMit Manuel Glättli und Philippe Streit von Nexplore AG. \n\n\n\nInfos und Anmeldung unter WRT Digital – Geschäftsprozesse digitalisieren – Wirtschaftsraum Thun – die Region
URL:https://digitalimpact.ch/event/wrt-digital-geschaeftsprozesse-digitalisieren/
LOCATION:Nexplore AG\, C.F.L. Lohnerstrasse 24\, Gwatt\, 3645\, Schweiz
CATEGORIES:Thun
ATTACH;FMTTYPE=image/jpeg:https://digitalimpact.ch/wp-content/uploads/2023/02/Geschaeftsprozessedigital-scaled.jpg
END:VEVENT
END:VCALENDAR