BEGIN:VCALENDAR
VERSION:2.0
PRODID:-//Digital Impact Network - ECPv6.15.15//NONSGML v1.0//EN
CALSCALE:GREGORIAN
METHOD:PUBLISH
X-WR-CALNAME:Digital Impact Network
X-ORIGINAL-URL:https://digitalimpact.ch
X-WR-CALDESC:Veranstaltungen für Digital Impact Network
REFRESH-INTERVAL;VALUE=DURATION:PT1H
X-Robots-Tag:noindex
X-PUBLISHED-TTL:PT1H
BEGIN:VTIMEZONE
TZID:Europe/Zurich
BEGIN:DAYLIGHT
TZOFFSETFROM:+0100
TZOFFSETTO:+0200
TZNAME:CEST
DTSTART:20210328T010000
END:DAYLIGHT
BEGIN:STANDARD
TZOFFSETFROM:+0200
TZOFFSETTO:+0100
TZNAME:CET
DTSTART:20211031T010000
END:STANDARD
BEGIN:DAYLIGHT
TZOFFSETFROM:+0100
TZOFFSETTO:+0200
TZNAME:CEST
DTSTART:20220327T010000
END:DAYLIGHT
BEGIN:STANDARD
TZOFFSETFROM:+0200
TZOFFSETTO:+0100
TZNAME:CET
DTSTART:20221030T010000
END:STANDARD
BEGIN:DAYLIGHT
TZOFFSETFROM:+0100
TZOFFSETTO:+0200
TZNAME:CEST
DTSTART:20230326T010000
END:DAYLIGHT
BEGIN:STANDARD
TZOFFSETFROM:+0200
TZOFFSETTO:+0100
TZNAME:CET
DTSTART:20231029T010000
END:STANDARD
BEGIN:DAYLIGHT
TZOFFSETFROM:+0100
TZOFFSETTO:+0200
TZNAME:CEST
DTSTART:20240331T010000
END:DAYLIGHT
BEGIN:STANDARD
TZOFFSETFROM:+0200
TZOFFSETTO:+0100
TZNAME:CET
DTSTART:20241027T010000
END:STANDARD
BEGIN:DAYLIGHT
TZOFFSETFROM:+0100
TZOFFSETTO:+0200
TZNAME:CEST
DTSTART:20250330T010000
END:DAYLIGHT
BEGIN:STANDARD
TZOFFSETFROM:+0200
TZOFFSETTO:+0100
TZNAME:CET
DTSTART:20251026T010000
END:STANDARD
END:VTIMEZONE
BEGIN:VEVENT
DTSTART;TZID=Europe/Zurich:20241119T090000
DTEND;TZID=Europe/Zurich:20241119T200000
DTSTAMP:20260422T040215
CREATED:20241003T145258Z
LAST-MODIFIED:20241003T145259Z
UID:10000213-1732006800-1732046400@digitalimpact.ch
SUMMARY:Suissedigital-Day 2024
DESCRIPTION:BR Albert Rösti\, Digitalisierung bei den KMU und über 40 Aussteller \n\n\n\nDer Suissedigital-Day\, der dieses Jahr am 19. November im Kursaal in Bern stattfindet\, ist DER Branchenanlass der Schweizer Telekommunikations- und Digitalisierungsbranche. Auf dem Programm stehen topaktuelle KMU-Themen wie „Ist die Cloud wirklich gefährlich?“\, „Zusammenarbeit mit IT-Dienstleistern aus der Security-Perspektive“ und „KI in der Anwendung für KMU“. Eröffnet wird Tagung von BR Albert Rösti zum Thema «Roadmap für die Hochbreitbandstrategie der Schweiz: Wo stehen wir?». Parallel findet die Ausstellung mit über 40 Unternehmen statt.
URL:https://digitalimpact.ch/event/suissedigital-day-2024/
LOCATION:Kursaal Bern\, Kornhausstrasse 3\, Bern\, 3013\, Schweiz
ATTACH;FMTTYPE=image/png:https://digitalimpact.ch/wp-content/uploads/2024/10/Unbenannt.png
END:VEVENT
BEGIN:VEVENT
DTSTART;TZID=Europe/Zurich:20221116T080000
DTEND;TZID=Europe/Zurich:20221116T170000
DTSTAMP:20260422T040215
CREATED:20221003T135920Z
LAST-MODIFIED:20221003T140158Z
UID:10000175-1668585600-1668618000@digitalimpact.ch
SUMMARY:DACH-Mobilitätskonferenz - asut-Kolloquium / Fachtagung ASTRA\, its-ch und TCS – Netto-Null Mobilität: wie schaffen wir das?
DESCRIPTION:Nach Jahrzehnten stabiler Rahmenbedingungen muss die Mobilitätswelt mit einer zunehmenden Zahl von Veränderungen mit gegensätzlichen Auswirkungen zu Recht kommen. Vielfach sind die Infrastrukturen heute bereits an der Überlastungsgrenze. Ausbauten können aus räumlichen und finanziellen Gründen nur noch beschränkt umgesetzt werden. Daher gilt vermehrt «Intelligenz statt Beton»\, um die vorhandenen Infrastrukturen besser zu nutzen\, Nutzungsspitzen zu brechen und die Ausfallzeiten zu minimieren. «So weiter wie bisher» geht nicht mehr. Einfache Lösungen gibt es nicht. \n\n\n\nAls einer der grössten Energieverbraucher und Emittent von Schadstoffen ist die Mobilitätsbranche in den Fokus der öffentlichen Aufmerksamkeit gerückt. Die Regierungen haben sich im Pariser Abkommen auf Klimaschutzziele verpflichtet. Diese führen letztlich zur Anforderung «Netto-Null Mobilität». Weiter führte uns der Krieg in der Ukraine deutlich vor Augen\, dass die Abhängigkeit von fossilen Brennstoffen die Volkswirtschaften Europas massiv negativ beeinflussen kann. Die «Energiesouveränität» ist eine Frage strategischer Relevanz geworden. \n\n\n\nWelchen Beitrag können intelligente Systeme zur Lösung der Probleme der Mobilitätswelt leisten? Wo haben wir bereits Erfolge? Wo kommen wir noch nicht voran? Und was brauchen wir zum Vorwärtskommen? Diese Fragen bestimmen das Programm der DACH-Mobilitätskonferenz am 16. November 2022 im Kursaal in Bern\, die gemeinsam von asut\, its-ch\, ASTRA und TCS mit den Partnerverbänden ITS austria\, ITS mobility und ITS germany ausgetragen wird. \n\n\n\nAls Mitglied vom Digital Impact Network kannst du zu einem Vorzugspreis von CHF 390 anstatt CHF 590 teilnehmen. Bitte vermerke bei der Anmeldung deine Mitgliedschaft.  \n\n\n\nWeitere Informationen \n\n\n\nProspekt_DACH-Mobilitaetskonferenz_2022Herunterladen
URL:https://digitalimpact.ch/event/dach-mobilitaetskonferenz-asut-kolloquium-fachtagung-astra-its-ch-und-tcs-netto-null-mobilitaet-wie-schaffen-wir-das/
LOCATION:Kursaal Bern\, Kornhausstrasse 3\, Bern\, 3013\, Schweiz
ATTACH;FMTTYPE=image/png:https://digitalimpact.ch/wp-content/uploads/2022/10/2022-10-03-16_47_18-Prospekt_DACH-Mobilitaetskonferenz_2022.pdf-Adobe-Acrobat-Pro-DC-32-bit-e1664809306546.png
END:VEVENT
END:VCALENDAR