BEGIN:VCALENDAR
VERSION:2.0
PRODID:-//Digital Impact Network - ECPv6.15.15//NONSGML v1.0//EN
CALSCALE:GREGORIAN
METHOD:PUBLISH
X-WR-CALNAME:Digital Impact Network
X-ORIGINAL-URL:https://digitalimpact.ch
X-WR-CALDESC:Veranstaltungen für Digital Impact Network
REFRESH-INTERVAL;VALUE=DURATION:PT1H
X-Robots-Tag:noindex
X-PUBLISHED-TTL:PT1H
BEGIN:VTIMEZONE
TZID:Europe/Zurich
BEGIN:DAYLIGHT
TZOFFSETFROM:+0100
TZOFFSETTO:+0200
TZNAME:CEST
DTSTART:20210328T010000
END:DAYLIGHT
BEGIN:STANDARD
TZOFFSETFROM:+0200
TZOFFSETTO:+0100
TZNAME:CET
DTSTART:20211031T010000
END:STANDARD
BEGIN:DAYLIGHT
TZOFFSETFROM:+0100
TZOFFSETTO:+0200
TZNAME:CEST
DTSTART:20220327T010000
END:DAYLIGHT
BEGIN:STANDARD
TZOFFSETFROM:+0200
TZOFFSETTO:+0100
TZNAME:CET
DTSTART:20221030T010000
END:STANDARD
BEGIN:DAYLIGHT
TZOFFSETFROM:+0100
TZOFFSETTO:+0200
TZNAME:CEST
DTSTART:20230326T010000
END:DAYLIGHT
BEGIN:STANDARD
TZOFFSETFROM:+0200
TZOFFSETTO:+0100
TZNAME:CET
DTSTART:20231029T010000
END:STANDARD
BEGIN:DAYLIGHT
TZOFFSETFROM:+0100
TZOFFSETTO:+0200
TZNAME:CEST
DTSTART:20240331T010000
END:DAYLIGHT
BEGIN:STANDARD
TZOFFSETFROM:+0200
TZOFFSETTO:+0100
TZNAME:CET
DTSTART:20241027T010000
END:STANDARD
BEGIN:DAYLIGHT
TZOFFSETFROM:+0100
TZOFFSETTO:+0200
TZNAME:CEST
DTSTART:20250330T010000
END:DAYLIGHT
BEGIN:STANDARD
TZOFFSETFROM:+0200
TZOFFSETTO:+0100
TZNAME:CET
DTSTART:20251026T010000
END:STANDARD
BEGIN:DAYLIGHT
TZOFFSETFROM:+0100
TZOFFSETTO:+0200
TZNAME:CEST
DTSTART:20260329T010000
END:DAYLIGHT
BEGIN:STANDARD
TZOFFSETFROM:+0200
TZOFFSETTO:+0100
TZNAME:CET
DTSTART:20261025T010000
END:STANDARD
END:VTIMEZONE
BEGIN:VEVENT
DTSTART;TZID=Europe/Zurich:20250828T173000
DTEND;TZID=Europe/Zurich:20250828T200000
DTSTAMP:20260426T051014
CREATED:20241216T140619Z
LAST-MODIFIED:20250825T072450Z
UID:10000220-1756402200-1756411200@digitalimpact.ch
SUMMARY:DIN-Bier Bern: Digitale Souveränität auf dem Prüfstand
DESCRIPTION:Das Digital Impact Network (DIN) lädt dich herzlich zum DIN-Bier am Donnerstag\, 28. August 2025 ein!  \n\n\n\nDigitale Souveränität auf dem Prüfstand: Kritische Punkte hinterfragt durch die Juristin Chantal Lutz  von Bracher & Partner. Nutze im Anschluss die Zeit für inspirierende Gespräche und die Gelegenheit\, dich bei einem Fübi in entspannter Atmosphäre zu vernetzen. \n\n\n\nDer Anlass findet in der Erupt Lounge statt. Vom Treffpunkt Bahnhof Bern Richtung Gleise mit dem Schanzen-Lift nach dem Gleis 13 in den 3. Stock fahren. Die Erupt Lounge ist gleich gegenüber dem Lift! \n\n\n\nProgramm17:30 Uhr: Ankunft der Gäste17:45 Uhr: Impulsreferat18:30 Uhr: Apéro und Networking \n\n\n\nReserviere dir schon jetzt den Termin und sei dabei\, wenn wir gemeinsam spannende Einblicke in Themen rund um Digitalisierung und Innovation gewinnen. Wir freuen uns auf dich! \n\n\n\nAnmeldung auf LinkedIn oder per Mail an info@digitalimpact.ch.
URL:https://digitalimpact.ch/event/din-bier-bern-4/
LOCATION:Erupt Lounge\, Parkterasse 14\, Bern\, 3012
CATEGORIES:Bern
ATTACH;FMTTYPE=image/png:https://digitalimpact.ch/wp-content/uploads/2024/12/din-bier-1500-1000.png
END:VEVENT
BEGIN:VEVENT
DTSTART;TZID=Europe/Zurich:20250313T173000
DTEND;TZID=Europe/Zurich:20250313T200000
DTSTAMP:20260426T051014
CREATED:20241216T135618Z
LAST-MODIFIED:20250303T204254Z
UID:10000217-1741887000-1741896000@digitalimpact.ch
SUMMARY:DIN-Bier Bern@Erupt Lounge
DESCRIPTION:Das Digital Impact Network (DIN) lädt dich herzlich zum DIN-Bier am Donnerstag\, 13. März 2025 ein! Freue dich auf eine spannende Location\, inspirierende Gespräche und die Gelegenheit\, dich bei einem Apéro in cooler Atmosphäre zu vernetzen. \n\n\n\nWir treffen uns in der Erupt Lounge. Vom Treffpunkt Bahnhof Bern Richtung Gleise den Schanzen-Lift am Ende der Unterführung in den 3. Stock nehmen. Erupt ist direkt gegenüber dem Lift! \n\n\n\nProgramm17:30 Uhr: Eintreffen der Gäste mit Apéro und Networking \n\n\n\nReserviere dir schon jetzt den Termin und sei dabei\, wenn wir gemeinsam spannende Einblicke in Themen rund um Digitalisierung und Innovation diskutieren. Wir freuen uns auf dich! \n\n\n\nAnmelden kannst du dich über LinkedIn oder via Mail an info@digitalimpact.ch
URL:https://digitalimpact.ch/event/din-bier-bern/
LOCATION:Erupt Lounge\, Parkterasse 14\, Bern\, 3012
CATEGORIES:Bern
ATTACH;FMTTYPE=image/png:https://digitalimpact.ch/wp-content/uploads/2024/12/din-bier-1500-1000.png
END:VEVENT
BEGIN:VEVENT
DTSTART;TZID=Europe/Zurich:20231114T173000
DTEND;TZID=Europe/Zurich:20231114T210000
DTSTAMP:20260426T051014
CREATED:20230129T210817Z
LAST-MODIFIED:20231105T142858Z
UID:10000109-1699983000-1699995600@digitalimpact.ch
SUMMARY:DIN-Bier Chapter Bern – "Green Software Design" aus der Fachgruppe Sustainable IT
DESCRIPTION:Wir treffen uns zum DIN-Bier ab 17:30 Uhr in der Erupt Bar Lounge. Wie immer steht das Networking im Zentrum. Zusätzlich werden wir zu Beginn ein kurzes Impulsreferat hören. \n\n\n\nThema: „Was kann ich als Software Ingenieur*in  tun\, damit meine Software «grüner» wird?“ In diesem Talk präsentieren wir Strategien um effizienteren\, ressourcen-schonende Lösungen zu entwickeln. \n\n\n\nWir freuen uns auf einen spannenden\, interaktiven Austausch und angeregte Diskussionen im DIN Netzwerk. \n\n\n\nProgramm \n\n\n\n17:30 Uhr: individuelles Eintreffen in der Erupt Bar Lounge.17:45 Uhr: Kurzreferatdanach Networking \n\n\n\nAnmelden kannst du dich hier oder per Mail an info@digitalimpact.ch
URL:https://digitalimpact.ch/event/din-bier-chapter-bern-impulsthema-noch-offen/
LOCATION:Erupt Lounge\, Parkterasse 14\, Bern\, 3012
CATEGORIES:Bern
ATTACH;FMTTYPE=image/jpeg:https://digitalimpact.ch/wp-content/uploads/2022/01/Muehlibier-scaled.jpg
ORGANIZER;CN="Chapter Bern":MAILTO:bern@digitalimpact.ch
END:VEVENT
BEGIN:VEVENT
DTSTART;TZID=Europe/Zurich:20230823T173000
DTEND;TZID=Europe/Zurich:20230823T210000
DTSTAMP:20260426T051014
CREATED:20230129T210553Z
LAST-MODIFIED:20230207T201703Z
UID:10000108-1692811800-1692824400@digitalimpact.ch
SUMMARY:DIN-Bier Chapter Bern – Impuls aus dem Startup re-useIT
DESCRIPTION:Wir treffen uns zum DIN-Bier ab 17:30 Uhr in der Erupt Bar Lounge. Wie immer steht das Networking im Zentrum. Zusätzlich werden wir zu Beginn ein kurzes Referat aus einer unserer Fachgruppen hören. \n\n\n\nBlerim Rudhani stell uns sein Startup re-useIT vor. Bei re-useIT geht es um eine Vermittlungsplattform\, welche insbesondere wiederverwendbare Netzwerkkomponenten zurück in den Kreislauf bringt. Interessanter Ansatz\, wir sind gespannt auf die Insights zu den Marktbedürfnissen und wie Blerim diese erfüllen will. \n\n\n\nWir freuen uns auf einen spannenden\, interaktiven Austausch und angeregte Diskussionen im DIN Netzwerk. \n\n\n\nProgramm \n\n\n\n17:30 Uhr: individuelles Eintreffen in der Erupt Bar Lounge.17:45 Uhr: Kurzreferatdanach Networking \n\n\n\nAnmelden kannst du dich hier oder per Mail an info@digitalimpact.ch
URL:https://digitalimpact.ch/event/din-bier-chapter-bern-impuls-aus-der-fachgruppe-sustainable-it/
LOCATION:Erupt Lounge\, Parkterasse 14\, Bern\, 3012
CATEGORIES:Bern
ATTACH;FMTTYPE=image/jpeg:https://digitalimpact.ch/wp-content/uploads/2022/01/Muehlibier-scaled.jpg
ORGANIZER;CN="Chapter Bern":MAILTO:bern@digitalimpact.ch
END:VEVENT
BEGIN:VEVENT
DTSTART;TZID=Europe/Zurich:20230316T173000
DTEND;TZID=Europe/Zurich:20230316T210000
DTSTAMP:20260426T051014
CREATED:20230129T205822Z
LAST-MODIFIED:20230301T152456Z
UID:10000174-1678987800-1679000400@digitalimpact.ch
SUMMARY:DIN-Bier Chapter Bern - "Ethical AI" - Impuls aus der Fachgruppe AI
DESCRIPTION:An diesem DIN-Bier erhalten wir von Michael Wegmüller\, Fachgruppenleiter der Fachgruppe Artificial Intelligence\, einen Impuls zum Thema «Ethical AI». Bei Ethical AI geht es um moralische Grundsätze\, die einen verantwortungsvollen Einsatz von künstlicher Intelligenz ermöglichen sollen. Aktuell mit dem Hype rund um die Bots von Open AI und Google sicher ein spannendes Thema. \n\n\n\nWir treffen uns zum DIN-Bier ab 17:30 Uhr in der Erupt Bar Lounge. Wie immer steht das Networking im Zentrum. \n\n\n\nWir freuen uns auf einen spannenden\, interaktiven Austausch und angeregte Diskussionen im DIN Netzwerk. \n\n\n\nProgramm \n\n\n\n17:30 Uhr: individuelles Eintreffen in der Erupt Bar Lounge.17:45 Uhr: Kurzreferat „Ethical AI“danach Networking \n\n\n\nAnmelden kannst du dich hier oder per Mail an info@digitalimpact.ch
URL:https://digitalimpact.ch/event/din-bier-chapter-bern-impuls-aus-der-fachgruppe-ai/
LOCATION:Erupt Lounge\, Parkterasse 14\, Bern\, 3012
CATEGORIES:Bern
ATTACH;FMTTYPE=image/jpeg:https://digitalimpact.ch/wp-content/uploads/2022/01/Muehlibier-scaled.jpg
ORGANIZER;CN="Chapter Bern":MAILTO:bern@digitalimpact.ch
END:VEVENT
BEGIN:VEVENT
DTSTART;TZID=Europe/Zurich:20221122T173000
DTEND;TZID=Europe/Zurich:20221122T210000
DTSTAMP:20260426T051014
CREATED:20220110T211230Z
LAST-MODIFIED:20221128T125414Z
UID:10000141-1669138200-1669150800@digitalimpact.ch
SUMMARY:ACHTUNG\, NEUE LOCATION / DIN Bier - Impuls "How to buy the cloud?"
DESCRIPTION:Wir treffen uns zum DIN-Bier ab 17:30 Uhr in der Erupt Bar Lounge. Wie immer steht das Networking im Zentrum. Zusätzlich werden wir zu Beginn ein kurzes Referat aus der DIN-Fachgruppe Cloud Native & Devops hören. Referent ist Christoph Siegrist von der Firma Nuvibit. \n\n\n\n \n\n\n\nKurzreferat: Cloud Computing verändert nicht nur die Art und Weise wie System-Architekten IT-Infrastrukturen planen\, wie Developer Software entwickeln oder Operations den Betrieb überwacht. Am Anfang steht die Beschaffung und die sollte man auch den modernen cloud-native Prinzipien anpassen.  \n\n\n\nWir freuen uns auf einen spannenden\, interaktiven Austausch und angeregte Diskussionen im DIN Netzwerk. \n\n\n\nProgramm \n\n\n\n17:30 Uhr: individuelles Eintreffen in der Erupt Bar Lounge.17:45 Uhr: Kurzreferat “How to buy the cloud?”danach Networking \n\n\n\nPräsentation „How to buy the cloud“ \n\n\n\nHow-to-buy-the-cloud-Herunterladen
URL:https://digitalimpact.ch/event/din-bier-7/
LOCATION:Erupt Lounge\, Parkterasse 14\, Bern\, 3012
CATEGORIES:Bern
ATTACH;FMTTYPE=image/jpeg:https://digitalimpact.ch/wp-content/uploads/2022/01/Muehlibier-scaled.jpg
ORGANIZER;CN="Chapter Bern":MAILTO:bern@digitalimpact.ch
END:VEVENT
BEGIN:VEVENT
DTSTART;TZID=Europe/Zurich:20220816T173000
DTEND;TZID=Europe/Zurich:20220816T210000
DTSTAMP:20260426T051014
CREATED:20220110T211107Z
LAST-MODIFIED:20220514T153056Z
UID:10000140-1660671000-1660683600@digitalimpact.ch
SUMMARY:DIN Bier - Sustainable IT: Ein Gewinn für ALLE
DESCRIPTION:Dieses DIN-Bier wird von unserem DIN-Mitglied Backup One\, dem Partner für Schweizer Datensicherheits-Lösungen\, gesponsert. \n\n\n\n\n\n\n\nWir treffen uns zum DIN-Bier ab 17:30 Uhr in der Erupt Lounge (www.erupt.ch) Im Vordergrund steht wie jedes Mal das ungezwungene Netzwerken und Austauschen. Wir freuen uns auf bereits bekannte\, aber auch neue Gesichter. \n\n\n\nKurzreferat \n\n\n\nIT nachhaltig zu betreiben lohnt sich\, IT zur Verbesserung der Nachhaltigkeit von anderen Geschäftsprozessen einzusetzen ebenso. Nicht nur die Umwelt profitiert\, sondern auch das eigene Portemonnaie. In meiner Einführung in das Thema Sustainable IT gehe ich auf die folgenden Punkte ein: Weshalb ist Nachhaltigkeit auch in der IT wichtig? Was kann ich mit nachhaltiger IT bewirken? Welche Beispiele aus der Praxis gibt es? Was kann ich konkret tun? Wo kann ich mich weitergehend informieren?  \n\n\n\nBeat Koch ist Informatiker mit Zusatzausbildung in Umweltberatung und -kommunikation. Er beschäftigt sich seit 2010 mit dem Thema Sustainable IT und leitet die Fachgruppe Sustainable IT im DIN. \n\n\n\nProgramm \n\n\n\n17:30 Uhr: individuelles Eintreffen in der Erupt Lounge18:00 Uhr: Kurzvortragdanach Networking
URL:https://digitalimpact.ch/event/din-bier-6/
LOCATION:Erupt Lounge\, Parkterasse 14\, Bern\, 3012
CATEGORIES:Bern
ATTACH;FMTTYPE=image/jpeg:https://digitalimpact.ch/wp-content/uploads/2022/01/DIN-Bier-Sommer-scaled.jpg
ORGANIZER;CN="Chapter Bern":MAILTO:bern@digitalimpact.ch
END:VEVENT
BEGIN:VEVENT
DTSTART;TZID=Europe/Zurich:20220322T173000
DTEND;TZID=Europe/Zurich:20220322T210000
DTSTAMP:20260426T051014
CREATED:20220110T205855Z
LAST-MODIFIED:20220322T165616Z
UID:10000138-1647970200-1647982800@digitalimpact.ch
SUMMARY:DIN-Bier
DESCRIPTION:Wir treffen uns zum DIN-Bier ab 17:30 Uhr in der Erupt Lounge. \n\n\n\nIm Vordergrund steht wie jedes Mal das ungezwungene Netzwerken und Austauschen. \n\n\n\nWir freuen uns auf bereits bekannte\, aber auch neue Gesichter. \n\n\n\nProgramm \n\n\n\nab 17:30 Uhr: individuelles Eintreffen in der Erupt Lounge\, Bahnhof Parking 3. Stock\, direkt beim Lift.danach Networking
URL:https://digitalimpact.ch/event/din-bier/
LOCATION:Erupt Lounge\, Parkterasse 14\, Bern\, 3012
CATEGORIES:Bern
ATTACH;FMTTYPE=image/jpeg:https://digitalimpact.ch/wp-content/uploads/2019/02/Foto-2.jpg
END:VEVENT
END:VCALENDAR