BEGIN:VCALENDAR
VERSION:2.0
PRODID:-//Digital Impact Network - ECPv6.15.15//NONSGML v1.0//EN
CALSCALE:GREGORIAN
METHOD:PUBLISH
X-WR-CALNAME:Digital Impact Network
X-ORIGINAL-URL:https://digitalimpact.ch
X-WR-CALDESC:Veranstaltungen für Digital Impact Network
REFRESH-INTERVAL;VALUE=DURATION:PT1H
X-Robots-Tag:noindex
X-PUBLISHED-TTL:PT1H
BEGIN:VTIMEZONE
TZID:Europe/Zurich
BEGIN:DAYLIGHT
TZOFFSETFROM:+0100
TZOFFSETTO:+0200
TZNAME:CEST
DTSTART:20250330T010000
END:DAYLIGHT
BEGIN:STANDARD
TZOFFSETFROM:+0200
TZOFFSETTO:+0100
TZNAME:CET
DTSTART:20251026T010000
END:STANDARD
BEGIN:DAYLIGHT
TZOFFSETFROM:+0100
TZOFFSETTO:+0200
TZNAME:CEST
DTSTART:20260329T010000
END:DAYLIGHT
BEGIN:STANDARD
TZOFFSETFROM:+0200
TZOFFSETTO:+0100
TZNAME:CET
DTSTART:20261025T010000
END:STANDARD
BEGIN:DAYLIGHT
TZOFFSETFROM:+0100
TZOFFSETTO:+0200
TZNAME:CEST
DTSTART:20270328T010000
END:DAYLIGHT
BEGIN:STANDARD
TZOFFSETFROM:+0200
TZOFFSETTO:+0100
TZNAME:CET
DTSTART:20271031T010000
END:STANDARD
END:VTIMEZONE
BEGIN:VEVENT
DTSTART;TZID=Europe/Zurich:20260429T120000
DTEND;TZID=Europe/Zurich:20260429T133000
DTSTAMP:20260424T205715
CREATED:20260219T093315Z
LAST-MODIFIED:20260219T144522Z
UID:10000292-1777464000-1777469400@digitalimpact.ch
SUMMARY:DIN-Mittagstisch
DESCRIPTION:Am DIN-Mittagstisch bietet das Digital Impact Network eine entspannte Gelegenheit\, sich bei einem gemeinsamen Mittagessen auszutauschen und zu vernetzen. \n\n\n\nNach dem Eintreffen der Gäste folgt eine gemeinsames Mittagessen und Networking. \n\n\n\nHinweis: Essen und Getränke sind selbst zu bezahlen. \n\n\n\nNotiere dir die Termine und sei dabei\, wenn wir gemeinsam spannende Gespräche führen und neue Kontakte knüpfen! \n\n\n\nAnmeldung per Mail an info@digitalimpact.ch.
URL:https://digitalimpact.ch/event/din-mittagstisch-9/
LOCATION:Restaurant Krone\, Hauptgasse 64\, Solothurn\, 4500
CATEGORIES:Solothurn
ATTACH;FMTTYPE=image/png:https://digitalimpact.ch/wp-content/uploads/2025/01/mittag-solothurn.png
END:VEVENT
BEGIN:VEVENT
DTSTART;TZID=Europe/Zurich:20260521T173000
DTEND;TZID=Europe/Zurich:20260521T200000
DTSTAMP:20260424T205715
CREATED:20260325T075821Z
LAST-MODIFIED:20260325T075853Z
UID:10000297-1779384600-1779393600@digitalimpact.ch
SUMMARY:DIN-Bier: KI für KMU – Datenplattformen als Schlüssel zur digitalen Transformation
DESCRIPTION:Viele KMU investieren in Digitalisierung und lassen dabei ihr grösstes Kapital ungenutzt: ihre eigenen Daten. Informationen liegen verteilt in ERP\, CRM und Fachapplikationen. Ohne gemeinsame\, verständliche Datenbasis bleiben fundierte Entscheidungen Ermessenssache\, Automatisierung bleibt Stückwerk und KI bleibt Versprechen. \n\n\n\nDas wird dringlicher\, nicht weniger: KI-Tools und autonome Agents finden zunehmend Einzug in Unternehmen. Diese Systeme sind nur so gut wie die Daten\, mit denen sie arbeiten. Wer heute keine saubere Datenbasis hat\, wird morgen keine funktionierende KI haben. \n\n\n\nEine moderne Datenplattform verbindet\, was zusammengehört: Unternehmensdaten aus verschiedenen Quellen\, Transparenz über das gesamte Unternehmen und die Grundlage für Analysen\, Automatisierung und den produktiven KI-Einsatz. \n\n\n\nDer Impulsvortrag von Stefan von Niederhäusern zeigt aus Sicht der Unternehmensführung\, wann sich eine Datenplattform für KMU lohnt\, welche Bausteine zentral sind und wie der Einstieg pragmatisch gelingt. \n\n\n\nProgramm: \n\n\n\n17.30h: Eintreffen der Gäste17:45h: Impulsvortrag «Datenplattformen für KMU: Grundlage für KI und Automatisierung»18:15h: Diskussionsrunde und Q&A18:30h: Networking \n\n\n\nMehr zum Thema KI für KMU \n\n\n\nFür wen ist der Event? Geschäftsführende\, IT-Verantwortliche\, Digitalisierungsbeauftragte\, Fachbereichsleiter:innen und alle\, die KI im Unternehmen produktiv einsetzen wollen. 
URL:https://digitalimpact.ch/event/din-bier-ki-fuer-kmu-datenplattformen-als-schluessel-zur-digitalen-transformation/
LOCATION:Nexplore AG\, Zähringerstrasse 45\, Bern\, 3012
ATTACH;FMTTYPE=image/png:https://digitalimpact.ch/wp-content/uploads/2026/03/Nexplore_Logo_RGB_5000px_orange-002-scaled.png
END:VEVENT
BEGIN:VEVENT
DTSTART;TZID=Europe/Zurich:20260617T183000
DTEND;TZID=Europe/Zurich:20260617T200000
DTSTAMP:20260424T205715
CREATED:20260129T145830Z
LAST-MODIFIED:20260219T144549Z
UID:10000286-1781721000-1781726400@digitalimpact.ch
SUMMARY:WRT Digital: Roboter im Einsatz – wie KI Dienstleistungen verändert
DESCRIPTION:Roboter entlasten Fachpersonal\, steigern Effizienz und arbeiten mit Menschen zusammen – aber wie gelingt der Einsatz in der Praxis? \n\n\n\nService-Roboter und physische Künstliche Intelligenz sind längst im Alltag angekommen. In Restaurants\, Hotels\, Heimen\, Spitäler und der Industrie schaffen sie echten Mehrwert\, vom effizienteren Ressourceneinsatz bis zur höheren Kundenzufriedenheit. Entscheidend ist nicht die Technik allein\, sondern ihr sinnvoller Einsatz.Philippe Hegi\, Gründer und CEO von Bebop Robotics\, zeigt praxisnah\, was physische KI heute bereits kann und wohin die Reise in naher Zukunft geht. Im Fokus stehen konkrete Anwendungen\, wirtschaftliche Einsatzgebiete und die Frage\, wie Roboter Fachpersonal entlasten können\, ohne den Menschen zu ersetzen. Nach dem Input erleben die Teilnehmenden die Robotik live. Der Service-Roboter BOB untersützt beim Catering.Den Abschluss bildet ein Netzwerk-Apéro. Der Anlass wird vom Wirtschaftsraum Thun und dem DIN Chapter Thun organisiert. \n\n\n\nSind Sie interessiert? Hier geht es zur Anmeldung!
URL:https://digitalimpact.ch/event/wrt-digital-roboter-im-einsatz-wie-ki-dienstleistungen-veraendert/
LOCATION:Rathaus Thun\, Rathausplatz 1\, Thun\, 3600
CATEGORIES:Thun
ATTACH;FMTTYPE=image/jpeg:https://digitalimpact.ch/wp-content/uploads/2026/01/WRTDigitalRobotik.jpg
END:VEVENT
BEGIN:VEVENT
DTSTART;TZID=Europe/Zurich:20260618T080000
DTEND;TZID=Europe/Zurich:20260618T170000
DTSTAMP:20260424T205715
CREATED:20260115T133753Z
LAST-MODIFIED:20260223T124536Z
UID:10000283-1781769600-1781802000@digitalimpact.ch
SUMMARY:Legal Promptathon: Neue Prompts für die Rechtspraxis
DESCRIPTION:Generative Künstliche Intelligenz (GenKI) hält immer mehr auch in die Arbeitswelt von Juristinnen und Juristen Einzug. Einerseits wächst das Angebot an spezifischen KI-Tools für die Rechts- bzw. Anwaltspraxis. Andererseits gibt es auch immer mehr Erfahrungen mit guten Prompts\, die allgemeine (grosse) KI-Anwendungen (z.B. ChatGPT) nutzen. Gerade erst kürzlich hat Anthropic gezeigt\, was mit guten fachlichen Prompts aus dem Sprachmodell Claude herauszuholen ist. \n\n\n\nAm 18. Juni 2026 wird es darum gehen\, in einem Hackathon in Bern gute Prompts für die juristische Arbeit – insbesondere für die Anwaltspraxis – zu entwickeln. Am Promptathon bzw. Hackathon der Fachgruppe Legal geht es darum\, 2 bis 4 von Teilnehmenden vorab eingegebene Herausforderungen (Challenges) zu erfüllen. Mehr dazu findest du hier:  \n\n\n\nFlyer_PropathonHerunterladen\n\n\n\nDer Promptathon ist für Juristinnen und Juristen mit Interesse für IT und insbesondere KI sowie für Informatikerinnen und Informatiker aus dem Bereich von KI mit Interessen für die Rechtswelt bzw. an Legal-Tech gedacht. Es sind Anwenderkenntnisse im Prompting erforderlich. Die Teilnahme ist kostenlos. Anmeldung von Challenges an daniel.kettiger@digitalimpact.ch.  \n\n\n\nDer Hackathon findet bei der Begasoft AG\, Laupenstrasse 17 (City West)\, 3011 Bern statt. \n\n\n\nMelde dich noch heute an. Die Teilnehmerzahl ist begrenzt.
URL:https://digitalimpact.ch/event/promptathon-fachgruppe-legal/
LOCATION:Begasoft AG\, Laupenstrasse 17\, Bern\, 3011\, Schweiz
CATEGORIES:Bern
ATTACH;FMTTYPE=image/jpeg:https://digitalimpact.ch/wp-content/uploads/2026/01/Bild_Promptathon_generates_DK.jpg
END:VEVENT
BEGIN:VEVENT
DTSTART;TZID=Europe/Zurich:20260620T080000
DTEND;TZID=Europe/Zurich:20260627T170000
DTSTAMP:20260424T205715
CREATED:20260127T090214Z
LAST-MODIFIED:20260319T100500Z
UID:10000285-1781942400-1782579600@digitalimpact.ch
SUMMARY:Studienreise nach China
DESCRIPTION:Peking – Shanghai – Hangzhou\n\n\n\n\n\nWichtiger Hinweis:Aufgrund der aktuellen geopolitischen Entwicklungen haben wir entschieden\, die Studienreise auf das Jahr 2027 zu verschieben. Wir arbeiten aktuell an einem optimierten Programm und werden euch informieren\, sobald die neuen Termine feststehen. Meldet euch unverbindlich an\, um Updates zu erhalten. \n\n\n\nOrganisiert vom Digital Impact Network (DIN) in Kooperation mit der Euro-Sino Enterprises Association \n\n\n\nÜberblick\n\n\n\nDiese exklusive Studien- und Delegationsreise bietet Schweizer Unternehmen und Institutionen einen strukturierten\, praxisnahen Zugang zu Chinas dynamischem Digital- und Innovationsökosystems. Im Fokus stehen digitale Technologien\, künstliche Intelligenz\, neue Geschäftsmodelle sowie Kooperations- und Markteintrittsmöglichkeiten.   \n\n\n\nReisedauer: 8 Tage /7 Nächte \n\n\n\nProgrammstruktur:  \n\n\n\nCa. 70% Fach-\, Geschäfts- und Innovationsprogramm \n\n\n\nCa. 30% kuratierte Kultur- und Networking-Aktivitäten \n\n\n\nZiele der Reise: \n\n\n\n\nGewinn eines strukturierten und zielgerichteten Überblicks über Chinas digitale Wirtschaft und KI-Strategie\n\n\n\nIdentifikation konkreter Kooperations- und Partnerschaftsmöglichkeiten in den Bereich digitale Technologien\, KI\, Cloud Computing\, IoT und Next-Generation-Entreprise-Lösungen\n\n\n\nUnmittelbares Erleben von Skalierung\, Geschwindigkeit und Marktreise des chinesischen Technologie-Ökosystems\n\n\n\n\nProgrammhighlights\n\n\n\n\nBesuche bei führenden Technologieunternehmen\, Innovationsparks und Forschungszentren.\n\n\n\nExecutive Briefings zu Chinas Digital-\, KI und Industriepolitik\n\n\n\nGeschäfts-Matchmaking mit chinesischen Start-ups und Innovationsabteilungen etablierter Unternehmen.\n\n\n\nZwei individuell zugeschnittene Unternehmensbesuche\, abgestimmt auf die strategischen Interessen der Teilnehmenden\n\n\n\nAusgewählte kulturelle Formate \n\n\n\n\nSo könnte die Reise aussehen\n\n\n\nProvisorisches ProgrammHerunterladen\n\n\n\nKosten \n\n\n\nGesamtpreis: 3’000 CHF (exkl. Flug) \n\n\n\nDie genauen Kosten und Zahlungsbedingungen werden bekannt gegeben\, sobald das neue Datum und das endgültige Programm feststehen. Die Kosten für das All-inclusive-Programm belaufen sich schätzungsweise auf ca. 3.000 CHF. Inklusive sind folgende Leistungen: \n\n\n\n\nUnterbringung in 4-Sterne-Hotels\n\n\n\nFrühstück\, Mittag- und Abendessen gemäss Programm\n\n\n\nHochgeschwindigkeitszugfahrt 2. Klasse innerhalb Chinas (Peking–Shanghai–Hangzhou–Shanghai)\n\n\n\nPrivater Gruppentransport und Flughafentransfers in China\n\n\n\nOrganisation aller offiziellen Unternehmensbesuche und Meetings\n\n\n\nBusiness-Matchmaking und Dolmetscherdienste\n\n\n\nZweisprachige Reiseleitung und lokaler Support\n\n\n\nTeilnahmegebühr \n\n\n\n\nNicht enthalten: Internationale Flüge\, Reiseversicherung\, persönliche Ausgaben sowie nicht explizit aufgeführte Leistungen \n\n\n\n\n                \n                        \n                            Bitte sendet mir weitere Informationen zur Studienreise\n                             \n                        \n                        Name(erforderlich)\n                            \n                            \n                                                    \n                                                    Vorname\n                                                \n                            \n                            \n                                                    \n                                                    Nachname\n                                                \n                            \n                        E-Mail(erforderlich)\n                            \n                        Welche Themen oder Unternehmen interessieren dich besonders?
URL:https://digitalimpact.ch/event/studienreise-nach-china-2026/
CATEGORIES:Bern,Biel/Bienne,Emmental-Oberaargau,Oberwallis,Solothurn,Thun
ATTACH;FMTTYPE=image/png:https://digitalimpact.ch/wp-content/uploads/2026/01/China_Studienreise_1-scaled.png
END:VEVENT
BEGIN:VEVENT
DTSTART;TZID=Europe/Zurich:20260625T120000
DTEND;TZID=Europe/Zurich:20260625T133000
DTSTAMP:20260424T205715
CREATED:20260219T093503Z
LAST-MODIFIED:20260415T082246Z
UID:10000293-1782388800-1782394200@digitalimpact.ch
SUMMARY:DIN-Mittagstisch
DESCRIPTION:Am DIN-Mittagstisch bietet das Digital Impact Network eine entspannte Gelegenheit\, sich bei einem gemeinsamen Mittagessen auszutauschen und zu vernetzen. \n\n\n\nNach dem Eintreffen der Gäste folgt eine gemeinsames Mittagessen und Networking. \n\n\n\nHinweis: Essen und Getränke sind selbst zu bezahlen. \n\n\n\nNotiere dir die Termine und sei dabei\, wenn wir gemeinsam spannende Gespräche führen und neue Kontakte knüpfen! \n\n\n\nAnmeldung per Mail an info@digitalimpact.ch oder via LinkedIn.
URL:https://digitalimpact.ch/event/din-mittagstisch-10/
LOCATION:Restaurant Pintli\, Riedholzstrasse 1\, 4532 St. Niklaus-Feldbrunnen\, Solothurn\, 4532\, Schweiz
CATEGORIES:Solothurn
ATTACH;FMTTYPE=image/png:https://digitalimpact.ch/wp-content/uploads/2025/01/mittag-solothurn.png
END:VEVENT
BEGIN:VEVENT
DTSTART;TZID=Europe/Zurich:20260625T173000
DTEND;TZID=Europe/Zurich:20260625T203000
DTSTAMP:20260424T205715
CREATED:20251116T063011Z
LAST-MODIFIED:20260424T090538Z
UID:10000278-1782408600-1782419400@digitalimpact.ch
SUMMARY:Digitalisierungs-Journey bei der Fischer Spindle Group
DESCRIPTION:Ein toller Event des DIN Emmental-Oberaargau steht an. Stay tuned – details coming soon!!!
URL:https://digitalimpact.ch/event/digitalisierungsjourne-fischer-spindle/
LOCATION:Fischer Spindle\, Ernst-Fischerweg 5\, Herzogenbuchsee\, BE\, 3360\, Switzerland
CATEGORIES:Emmental-Oberaargau
ATTACH;FMTTYPE=image/png:https://digitalimpact.ch/wp-content/uploads/2025/11/EINBLICK-IN-DigitalE-PROZESSE-BEI-DER-Fischer-Spindle-Group-v2.png
END:VEVENT
BEGIN:VEVENT
DTSTART;TZID=Europe/Zurich:20260813T180000
DTEND;TZID=Europe/Zurich:20260813T193000
DTSTAMP:20260424T205715
CREATED:20260129T150201Z
LAST-MODIFIED:20260219T144626Z
UID:10000287-1786644000-1786649400@digitalimpact.ch
SUMMARY:WRT Digital: Future Management für KMU - Zukunft verstehen. Chancen nutzen. Risiken steuern.
DESCRIPTION:Was kommt auf mein Unternehmen zu – und wie bereite ich mich heute darauf vor? \n\n\n\nKMU stehen heute in einem zunehmend komplexen\, dynamischen und digitalen Umfeld. Megatrends wie Konnektivität wirken langfristig\, während Subtrends Geschäftsmodelle\, Prozesse und Kundenbeziehungen oft schneller verändern als erwartet. Dieses Referat bietet einen praxisnahen Einstieg ins Future Management. \n\n\n\nIm Fokus stehen: – eine verständliche Einführung ins Future Management ohne Theorieballast– der Weg von Megatrends über Subtrends zu konkreten Handlungsfeldern und wirksamen Strategien– Praxisbeispiele aus regionalen KMU-Workshops– der Megatrend Konnektivität und seine konkreten Auswirkungen auf KMU \n\n\n\nZiel des Referats ist es\, Orientierung\, Sicherheit und fundierte Entscheidungsgrundlagen zu schaffen – damit Zukunft aktiv gestaltet werden kann. Die Veranstaltung richtet sich an Inhaber\, Verwaltungsräte\, Geschäftsleitungen und Kader von KMU\, die auch in Zukunft erfolgreich bleiben wollen.Der Vortrag wird von Beat Rutishauser gehalten\, Chapter Manager von DIN sowie Inhaber und Geschäftsführer der Blue Line Consulting GmbH.Den Abschluss bildet ein Netzwerk-Apéro. Organisiert wird der Abend vom Wirtschaftsraum Thun und dem DIN Chapter Thun. \n\n\n\nSind Sie interessiert? Hier geht es zur Anmeldung!
URL:https://digitalimpact.ch/event/wrt-digital-future-management-fuer-kmu-zukunft-verstehen-chancen-nutzen-risiken-steuern/
LOCATION:Rathaus Thun\, Rathausplatz 1\, Thun\, 3600
CATEGORIES:Thun
ATTACH;FMTTYPE=image/jpeg:https://digitalimpact.ch/wp-content/uploads/2026/01/WRTDigitalMegatrends-scaled.jpg
END:VEVENT
BEGIN:VEVENT
DTSTART;TZID=Europe/Zurich:20260827T170000
DTEND;TZID=Europe/Zurich:20260827T200000
DTSTAMP:20260424T205715
CREATED:20251116T063235Z
LAST-MODIFIED:20260424T090157Z
UID:10000279-1787850000-1787860800@digitalimpact.ch
SUMMARY:Brauereibesichtigung: Tradition trifft Digitalisierung
DESCRIPTION:Wir freuen uns\, euch zu einem besonderen Event einzuladen\, der Tradition und Digitalisierung auf inspirierende Weise verbindet: \n\n\n\nBrauereibesichtigung – Tradition trifft Digitalisierung \n\n\n\nBei einer exklusiven Führung erleben wir hautnah\, wie moderne Bierproduktion heute funktioniert. Selbst in einem traditionsreichen Handwerk wie dem Bierbrauen gewinnen digitale Technologien zunehmend an Bedeutung: \n\n\n\n\nSensoren überwachen Temperatur und Gärprozesse in Echtzeit\n\n\n\nAutomatisierte Abfüllsysteme sorgen für Präzision und Effizienz\n\n\n\nDigitale Qualitätskontrollen steigern Transparenz und Sicherheit\n\n\n\n\nWährend der Führung sehen wir\, wie analoge Handwerkskunst und digitale Lösungen zusammenwirken – und natürlich degustieren wir ausgewählte Bierspezialitäten. \n\n\n\nFür die Führung können maximal 40 Teilnehmer berücksichtigt werden.  \n\n\n\nDatum:       Donnerstag\, 27.08.206 \n\n\n\nZeit:              17:30 \n\n\n\nOrt:                Gasthausbrauerei «Burgdorfer»\, Kornhausgasse 16\, 3400 Burgdorf \n\n\n\n\n\n\n\nFakultatives Nachtessen im Restaurant Schützenhaus \n\n\n\nIm Anschluss lassen wir den Abend bei einem gemütlichen Nachtessen (auf eigene Kosten) im Restaurant Schützenhausausklingen. Das Highlight: ein abgestimmtes Biermenü\, das kulinarische Tradition mit modern interpretierten Geschmacksnoten verbindet – passend zu unserem Tagesthema. Nachtessen auf eigene Kosten  \n\n\n\nRestaurant Schützenhaus\, Burgdorf \n\n\n\nStart: 19:30 \n\n\n\n\nJetzt Anmelden
URL:https://digitalimpact.ch/event/save-the-date-din-eo-bier/
LOCATION:Gasthausbrauerei „Burgdorfer“\, Kornhausgasse 16\, Burgdorf\, BE\, 3400\, Switzerland
CATEGORIES:Emmental-Oberaargau
ATTACH;FMTTYPE=image/png:https://digitalimpact.ch/wp-content/uploads/2025/11/website_DIN-EO-2026-08-27-v2-scaled.png
END:VEVENT
BEGIN:VEVENT
DTSTART;TZID=Europe/Zurich:20260828T120000
DTEND;TZID=Europe/Zurich:20260828T133000
DTSTAMP:20260424T205715
CREATED:20260219T093646Z
LAST-MODIFIED:20260219T144633Z
UID:10000294-1787918400-1787923800@digitalimpact.ch
SUMMARY:DIN-Mittagstisch
DESCRIPTION:Am DIN-Mittagstisch bietet das Digital Impact Network eine entspannte Gelegenheit\, sich bei einem gemeinsamen Mittagessen auszutauschen und zu vernetzen. \n\n\n\nNach dem Eintreffen der Gäste folgt eine gemeinsames Mittagessen und Networking. \n\n\n\nHinweis: Essen und Getränke sind selbst zu bezahlen. \n\n\n\nNotiere dir die Termine und sei dabei\, wenn wir gemeinsam spannende Gespräche führen und neue Kontakte knüpfen! \n\n\n\nAnmeldung per Mail an info@digitalimpact.ch.
URL:https://digitalimpact.ch/event/din-mittagstisch-11/
LOCATION:Berggasthof Untergrenchenberg\, Untergrenchenberg\, Grenchen\, 2540
CATEGORIES:Solothurn
ATTACH;FMTTYPE=image/png:https://digitalimpact.ch/wp-content/uploads/2025/01/mittag-solothurn.png
END:VEVENT
BEGIN:VEVENT
DTSTART;TZID=Europe/Zurich:20261022T180000
DTEND;TZID=Europe/Zurich:20261022T193000
DTSTAMP:20260424T205715
CREATED:20260122T084754Z
LAST-MODIFIED:20260219T144650Z
UID:10000284-1792692000-1792697400@digitalimpact.ch
SUMMARY:WRT Digital: Fachkräftemangel meistern - ICT Talente früh gewinnen und erfolgreich begleiten
DESCRIPTION:Die nächste Generation ICT Fachkräfte steht bereit. Wie KMU die Gen Z verstehen\, Talente identifizieren und den Übergang von der Schule in die Lehre erfolgreich gestalten.Programm \n\n\n\nDer Fachkräftemangel in den ICT Berufen fordert KMU zunehmend heraus. Wer früh in Nachwuchs investiert\, sichert sich die Fachkräfte von morgen und stärkt den Standort Thun. Im Fokus steht die Generation Z. Welche Erwartungen sie mitbringt\, wie sie tickt und was sie braucht\, um motiviert in die Lehre und erfolgreich in die Berufsfachschule zu starten. Zudem werden Unterstützungsangebote aufgezeigt\, die KMU effizient und nachhaltig nutzen können. Die Veranstaltung zeigt praxisnah\, wie der Übergang von der Sek I in die Sek II gelingt und wie Talente gezielt identifiziert\, begleitet und bis zum Lehrvertrag geführt werden. Mit Inputs von ICT Scouts\, der Wirtschaftsschule Thun und einer Lernendende oder einem Lernenden mit Erfahrungen aus erster Hand. Den Abschluss bildet ein Netzwerk-Apéro. Organisiert vom Wirtschaftsraum Thun dem DIN Chapter Thun der Wirtschaftsschule Thun und dem ICT Campus Thun. \n\n\n\nSind Sie interessiert? Hier geht es zur Anmeldung!
URL:https://digitalimpact.ch/event/wrt-digital-fachkraeftemangel-meistern-ict-talente-frueh-gewinnen-und-erfolgreich-begleiten/
LOCATION:Wirtschaftsschule Thun\, Mönchstrasse 30A\, Thun\, 3600
CATEGORIES:Thun
ATTACH;FMTTYPE=image/jpeg:https://digitalimpact.ch/wp-content/uploads/2026/01/WRTDigitalICTNachwuchs.jpg
END:VEVENT
BEGIN:VEVENT
DTSTART;TZID=Europe/Zurich:20261026T120000
DTEND;TZID=Europe/Zurich:20261026T133000
DTSTAMP:20260424T205715
CREATED:20260219T093756Z
LAST-MODIFIED:20260219T144654Z
UID:10000295-1793016000-1793021400@digitalimpact.ch
SUMMARY:DIN-Mittagstisch
DESCRIPTION:Am DIN-Mittagstisch bietet das Digital Impact Network eine entspannte Gelegenheit\, sich bei einem gemeinsamen Mittagessen auszutauschen und zu vernetzen. \n\n\n\nNach dem Eintreffen der Gäste folgt eine gemeinsames Mittagessen und Networking. \n\n\n\nHinweis: Essen und Getränke sind selbst zu bezahlen. \n\n\n\nNotiere dir die Termine und sei dabei\, wenn wir gemeinsam spannende Gespräche führen und neue Kontakte knüpfen! \n\n\n\nAnmeldung per Mail an info@digitalimpact.ch.
URL:https://digitalimpact.ch/event/din-mittagstisch-12/
LOCATION:Restaurant Chappeli\, Allerheiligenstrasse 218\, Grenchen\, 2540\, Schweiz
CATEGORIES:Solothurn
ATTACH;FMTTYPE=image/png:https://digitalimpact.ch/wp-content/uploads/2025/01/mittag-solothurn.png
END:VEVENT
BEGIN:VEVENT
DTSTART;TZID=Europe/Zurich:20261103T080000
DTEND;TZID=Europe/Zurich:20261103T170000
DTSTAMP:20260424T205715
CREATED:20260424T101154Z
LAST-MODIFIED:20260424T102309Z
UID:10000299-1793692800-1793725200@digitalimpact.ch
SUMMARY:Digital Impact Summit 2026
DESCRIPTION:Save the Date \n\n\n\n\n\nAm 3. November 2026 ist es soweit: Beim Digital Impact Summit\, der den ganzen Tag dauert\, bringen wir Vordenker:innen\, Entscheider:innen und Macher:innen zusammen\, um die wichtigsten digitalen Entwicklungen zu diskutieren – kompakt\, relevant und zukunftsorientiert. \n\n\n\nFreue dich auf starke Impulse\, echte Praxisperspektiven und wertvolle Kontakte. \n\n\n\n📍 Weitere Details zu Ort und Programm folgen in Kürze. \n\n\n\nWelche Megatrends bestimmen die nächsten Jahre?\n\n\n\nKünstliche Intelligenz\, neue Arbeitswelten\, nachhaltige Transformation – die Veränderungen sind rasant und betreffen uns alle. Genau hier setzen wir an: Wir wollen die Trends nicht nur verstehen\, sondern gemeinsam einordnen und greifbar machen. \n\n\n\nUnd jetzt kommst du ins Spiel: \n\n\n\nWelche Themen sollen wir auf der Konferenz vertiefen? \n\n\n\nMit deiner Stimme entscheidest du\, welche Trends auf die Bühne kommen. \n\n\n\n👉 Jetzt in 10 Sekunden abstimmen und das Programm mitgestalten! \n\n\n\n📩 Bleib auf dem Laufenden und melde dich für unseren Newsletter an\, um keine Updates zum Digital Impact Summit 2026 zu verpassen – von Programm-Highlights bis zur Anmeldung. \n\n\n\n👉 Jetzt Newsletter abonnieren
URL:https://digitalimpact.ch/event/digital-impact-summit-2026/
ATTACH;FMTTYPE=image/png:https://digitalimpact.ch/wp-content/uploads/2026/03/Visual-Pink-Violett-3.png
END:VEVENT
BEGIN:VEVENT
DTSTART;TZID=Europe/Zurich:20261125T170000
DTEND;TZID=Europe/Zurich:20261125T190000
DTSTAMP:20260424T205715
CREATED:20260129T150435Z
LAST-MODIFIED:20260219T144701Z
UID:10000288-1795626000-1795633200@digitalimpact.ch
SUMMARY:WRT: DIN - Bier
DESCRIPTION:Im Zentrum steht ein Fachvortrag mit anschliessender Bierdegustation. Der Anlass richtet sich an Mitglieder des DIN\, Interessierte an einer Mitgliedschaft sowie alle\, die sich für digitale Innovationen und zukunftsorientierte Karrieren begeistern.Weitere Informationen folgen.
URL:https://digitalimpact.ch/event/wrt-din-bier/
CATEGORIES:Thun
ATTACH;FMTTYPE=image/jpeg:https://digitalimpact.ch/wp-content/uploads/2026/01/DIN-Bier_2025-scaled.jpg
END:VEVENT
BEGIN:VEVENT
DTSTART;TZID=Europe/Zurich:20261126T173000
DTEND;TZID=Europe/Zurich:20261126T203000
DTSTAMP:20260424T205715
CREATED:20251116T063357Z
LAST-MODIFIED:20251116T063359Z
UID:10000280-1795714200-1795725000@digitalimpact.ch
SUMMARY:Save-the-date: DIN-EO Event
DESCRIPTION:Ein toller Event des DIN Emmental-Oberaargau steht an. Stay tuned – details coming soon!!!
URL:https://digitalimpact.ch/event/save-the-date-din-eo-event-3/
CATEGORIES:Emmental-Oberaargau
ATTACH;FMTTYPE=image/png:https://digitalimpact.ch/wp-content/uploads/2025/11/DIN-EO-save-the-date-1.png
END:VEVENT
END:VCALENDAR