BEGIN:VCALENDAR
VERSION:2.0
PRODID:-//Digital Impact Network - ECPv6.15.15//NONSGML v1.0//EN
CALSCALE:GREGORIAN
METHOD:PUBLISH
X-WR-CALNAME:Digital Impact Network
X-ORIGINAL-URL:https://digitalimpact.ch
X-WR-CALDESC:Veranstaltungen für Digital Impact Network
REFRESH-INTERVAL;VALUE=DURATION:PT1H
X-Robots-Tag:noindex
X-PUBLISHED-TTL:PT1H
BEGIN:VTIMEZONE
TZID:Europe/Zurich
BEGIN:DAYLIGHT
TZOFFSETFROM:+0100
TZOFFSETTO:+0200
TZNAME:CEST
DTSTART:20200329T010000
END:DAYLIGHT
BEGIN:STANDARD
TZOFFSETFROM:+0200
TZOFFSETTO:+0100
TZNAME:CET
DTSTART:20201025T010000
END:STANDARD
BEGIN:DAYLIGHT
TZOFFSETFROM:+0100
TZOFFSETTO:+0200
TZNAME:CEST
DTSTART:20210328T010000
END:DAYLIGHT
BEGIN:STANDARD
TZOFFSETFROM:+0200
TZOFFSETTO:+0100
TZNAME:CET
DTSTART:20211031T010000
END:STANDARD
BEGIN:DAYLIGHT
TZOFFSETFROM:+0100
TZOFFSETTO:+0200
TZNAME:CEST
DTSTART:20220327T010000
END:DAYLIGHT
BEGIN:STANDARD
TZOFFSETFROM:+0200
TZOFFSETTO:+0100
TZNAME:CET
DTSTART:20221030T010000
END:STANDARD
BEGIN:DAYLIGHT
TZOFFSETFROM:+0100
TZOFFSETTO:+0200
TZNAME:CEST
DTSTART:20230326T010000
END:DAYLIGHT
BEGIN:STANDARD
TZOFFSETFROM:+0200
TZOFFSETTO:+0100
TZNAME:CET
DTSTART:20231029T010000
END:STANDARD
BEGIN:DAYLIGHT
TZOFFSETFROM:+0100
TZOFFSETTO:+0200
TZNAME:CEST
DTSTART:20240331T010000
END:DAYLIGHT
BEGIN:STANDARD
TZOFFSETFROM:+0200
TZOFFSETTO:+0100
TZNAME:CET
DTSTART:20241027T010000
END:STANDARD
END:VTIMEZONE
BEGIN:VEVENT
DTSTART;TZID=Europe/Zurich:20230427T073000
DTEND;TZID=Europe/Zurich:20230427T100000
DTSTAMP:20260425T214110
CREATED:20230226T151731Z
LAST-MODIFIED:20230226T152226Z
UID:10000117-1682580600-1682589600@digitalimpact.ch
SUMMARY:DIN-Breakfast\, Chapter Bern – Digitalisierung im Fussball-Business
DESCRIPTION:Das erste DIN-Breakfast Chapter Bern\, präsentiert von kiwi Consultants AG\, findet am 27. April 2023\, 7:30 Uhr beim BSC YB in der Presidents Lounge statt. \n\n\n\nWir freuen uns sehr\, das Referat von Reto Steffen\, Chief Digital Officer beim BSC YB zum Thema “Digitalisierung im Fussball-Business” zu hören. \n\n\n\nWie immer steht das Networking im Zentrum. Wir freuen uns auf deine Teilnahme und einen spannenden\, interaktiven Austausch und angeregte Diskussionen im DIN Netzwerk. \n\n\n\nProgramm \n\n\n\n07:30 Uhr: individuelles Eintreffen beim BSC YB – Kaffee / Tee / Wasser07:45 Uhr: Kurzreferat “Digitalisierung im Fussball-Business” von Reto Steffen08:15 Uhr: Frühstücksbuffet10.00 Uhr: Ende der Veranstaltung Anreise:Unter https://events.bscyb.ch/aktivitaeten/ueber-uns/ findest Du den Situations- und Anfahrtsplan.Beim Eingang Papiermühlestrasse 71 trittst Du ins Stadion ein und musst in den 4. Stock. Der Eingang befindet sich links vom Restaurant Eleven.Falls Du mit dem Auto anreist\, findest Du den Eingang 71 zuhinterst rechts im Parkhaus des Wankdorf Einkaufszentrums.
URL:https://digitalimpact.ch/event/din-breakfast-chapter-bern-digitalisierung-im-fussball-business/
LOCATION:Stadion Wankdorf\, Papiermühlestrasse 71\, Bern\, 3014\, Schweiz
CATEGORIES:Bern
ATTACH;FMTTYPE=image/png:https://digitalimpact.ch/wp-content/uploads/2023/02/DIN-Breakfast-YB.png
ORGANIZER;CN="Chapter Bern":MAILTO:bern@digitalimpact.ch
END:VEVENT
BEGIN:VEVENT
DTSTART;TZID=Europe/Zurich:20230316T173000
DTEND;TZID=Europe/Zurich:20230316T210000
DTSTAMP:20260425T214110
CREATED:20230129T205822Z
LAST-MODIFIED:20230301T152456Z
UID:10000174-1678987800-1679000400@digitalimpact.ch
SUMMARY:DIN-Bier Chapter Bern - "Ethical AI" - Impuls aus der Fachgruppe AI
DESCRIPTION:An diesem DIN-Bier erhalten wir von Michael Wegmüller\, Fachgruppenleiter der Fachgruppe Artificial Intelligence\, einen Impuls zum Thema «Ethical AI». Bei Ethical AI geht es um moralische Grundsätze\, die einen verantwortungsvollen Einsatz von künstlicher Intelligenz ermöglichen sollen. Aktuell mit dem Hype rund um die Bots von Open AI und Google sicher ein spannendes Thema. \n\n\n\nWir treffen uns zum DIN-Bier ab 17:30 Uhr in der Erupt Bar Lounge. Wie immer steht das Networking im Zentrum. \n\n\n\nWir freuen uns auf einen spannenden\, interaktiven Austausch und angeregte Diskussionen im DIN Netzwerk. \n\n\n\nProgramm \n\n\n\n17:30 Uhr: individuelles Eintreffen in der Erupt Bar Lounge.17:45 Uhr: Kurzreferat „Ethical AI“danach Networking \n\n\n\nAnmelden kannst du dich hier oder per Mail an info@digitalimpact.ch
URL:https://digitalimpact.ch/event/din-bier-chapter-bern-impuls-aus-der-fachgruppe-ai/
LOCATION:Erupt Lounge\, Parkterasse 14\, Bern\, 3012
CATEGORIES:Bern
ATTACH;FMTTYPE=image/jpeg:https://digitalimpact.ch/wp-content/uploads/2022/01/Muehlibier-scaled.jpg
ORGANIZER;CN="Chapter Bern":MAILTO:bern@digitalimpact.ch
END:VEVENT
BEGIN:VEVENT
DTSTART;TZID=Europe/Zurich:20221122T173000
DTEND;TZID=Europe/Zurich:20221122T210000
DTSTAMP:20260425T214110
CREATED:20220110T211230Z
LAST-MODIFIED:20221128T125414Z
UID:10000141-1669138200-1669150800@digitalimpact.ch
SUMMARY:ACHTUNG\, NEUE LOCATION / DIN Bier - Impuls "How to buy the cloud?"
DESCRIPTION:Wir treffen uns zum DIN-Bier ab 17:30 Uhr in der Erupt Bar Lounge. Wie immer steht das Networking im Zentrum. Zusätzlich werden wir zu Beginn ein kurzes Referat aus der DIN-Fachgruppe Cloud Native & Devops hören. Referent ist Christoph Siegrist von der Firma Nuvibit. \n\n\n\n \n\n\n\nKurzreferat: Cloud Computing verändert nicht nur die Art und Weise wie System-Architekten IT-Infrastrukturen planen\, wie Developer Software entwickeln oder Operations den Betrieb überwacht. Am Anfang steht die Beschaffung und die sollte man auch den modernen cloud-native Prinzipien anpassen.  \n\n\n\nWir freuen uns auf einen spannenden\, interaktiven Austausch und angeregte Diskussionen im DIN Netzwerk. \n\n\n\nProgramm \n\n\n\n17:30 Uhr: individuelles Eintreffen in der Erupt Bar Lounge.17:45 Uhr: Kurzreferat “How to buy the cloud?”danach Networking \n\n\n\nPräsentation „How to buy the cloud“ \n\n\n\nHow-to-buy-the-cloud-Herunterladen
URL:https://digitalimpact.ch/event/din-bier-7/
LOCATION:Erupt Lounge\, Parkterasse 14\, Bern\, 3012
CATEGORIES:Bern
ATTACH;FMTTYPE=image/jpeg:https://digitalimpact.ch/wp-content/uploads/2022/01/Muehlibier-scaled.jpg
ORGANIZER;CN="Chapter Bern":MAILTO:bern@digitalimpact.ch
END:VEVENT
BEGIN:VEVENT
DTSTART;TZID=Europe/Zurich:20220816T173000
DTEND;TZID=Europe/Zurich:20220816T210000
DTSTAMP:20260425T214110
CREATED:20220110T211107Z
LAST-MODIFIED:20220514T153056Z
UID:10000140-1660671000-1660683600@digitalimpact.ch
SUMMARY:DIN Bier - Sustainable IT: Ein Gewinn für ALLE
DESCRIPTION:Dieses DIN-Bier wird von unserem DIN-Mitglied Backup One\, dem Partner für Schweizer Datensicherheits-Lösungen\, gesponsert. \n\n\n\n\n\n\n\nWir treffen uns zum DIN-Bier ab 17:30 Uhr in der Erupt Lounge (www.erupt.ch) Im Vordergrund steht wie jedes Mal das ungezwungene Netzwerken und Austauschen. Wir freuen uns auf bereits bekannte\, aber auch neue Gesichter. \n\n\n\nKurzreferat \n\n\n\nIT nachhaltig zu betreiben lohnt sich\, IT zur Verbesserung der Nachhaltigkeit von anderen Geschäftsprozessen einzusetzen ebenso. Nicht nur die Umwelt profitiert\, sondern auch das eigene Portemonnaie. In meiner Einführung in das Thema Sustainable IT gehe ich auf die folgenden Punkte ein: Weshalb ist Nachhaltigkeit auch in der IT wichtig? Was kann ich mit nachhaltiger IT bewirken? Welche Beispiele aus der Praxis gibt es? Was kann ich konkret tun? Wo kann ich mich weitergehend informieren?  \n\n\n\nBeat Koch ist Informatiker mit Zusatzausbildung in Umweltberatung und -kommunikation. Er beschäftigt sich seit 2010 mit dem Thema Sustainable IT und leitet die Fachgruppe Sustainable IT im DIN. \n\n\n\nProgramm \n\n\n\n17:30 Uhr: individuelles Eintreffen in der Erupt Lounge18:00 Uhr: Kurzvortragdanach Networking
URL:https://digitalimpact.ch/event/din-bier-6/
LOCATION:Erupt Lounge\, Parkterasse 14\, Bern\, 3012
CATEGORIES:Bern
ATTACH;FMTTYPE=image/jpeg:https://digitalimpact.ch/wp-content/uploads/2022/01/DIN-Bier-Sommer-scaled.jpg
ORGANIZER;CN="Chapter Bern":MAILTO:bern@digitalimpact.ch
END:VEVENT
BEGIN:VEVENT
DTSTART;TZID=Europe/Zurich:20220629T163000
DTEND;TZID=Europe/Zurich:20220629T190000
DTSTAMP:20260425T214110
CREATED:20220314T200114Z
LAST-MODIFIED:20220330T095719Z
UID:10000145-1656520200-1656529200@digitalimpact.ch
SUMMARY:Innovationsförderung Standort Bern: Betriebsbesichtigung sitem-insel
DESCRIPTION:Das erste nationale Kompetenzzentrum für Translationale Medizin und Unternehmertum ist ein Bekenntnis zum Medizinalstandort Bern. Getragen von der öffentlichen Hand\, der Wissenschaft und Industrie soll mit sitem-insel der Medizinalstandort Bern weiter ausgebaut und gestärkt werden. Die Universität Bern ist Gründungsmitglied und akademischer Partner von sitem-insel.  sitem-insel fördert Produkte aus der industriellen Entwicklung und Grundlagenforschung\, damit sie rasch für die klinische Anwendung zugelassen werden und damit den Patientinnen und Patienten zu Gute kommen. Grosse Partnerinnen wie die Inselgruppe\, die Universität Bern und bekannte grössere und kleinere Firmen aus der Privatwirtschaft\, sind in sitem-insel unter einem Dach vernetzt und betreiben Innovation zum Wohle der Patienten. \n\n\n\nWie schafft man einen Campus aufzubauen\, um Firmen zusammenzubringen und darauf neue Geschäftsfelder entstehen zu lassen\, Kooperationen einzugehen und den Wirtschaftsstandort Bern attraktiver zu machen. Dabei erwarten wir spannende Inputs von der Organisation sitem-insel\, welche die Plattform bereitstellt und so auch die Digitalisierung vorantreibt. \n\n\n\nNach der Besichtigung werden wir den Anlass bei Apéro und Networking ausklingen lassen. Nutzen Sie die Gelegenheit mit anderen DIN-Mitglieder in Kontakt zu treten. \n\n\n\nProgramm:16.30h: Eintreffen 17.00h: Start Betriebsbesichtigung  18.00h: Apero und Networking 
URL:https://digitalimpact.ch/event/innovationsfoerderung-standort-bern-betriebsbesichtigung-sitem-insel/
LOCATION:sitem-insel\, Freiburgstrasse 3\, Bern\, 3010\, Schweiz
CATEGORIES:Bern
ATTACH;FMTTYPE=image/jpeg:https://digitalimpact.ch/wp-content/uploads/2019/11/Bild-sitem-insel_2.jpg
ORGANIZER;CN="Chapter Bern":MAILTO:bern@digitalimpact.ch
END:VEVENT
BEGIN:VEVENT
DTSTART;TZID=Europe/Zurich:20220615T173000
DTEND;TZID=Europe/Zurich:20220615T200000
DTSTAMP:20260425T214110
CREATED:20220512T050803Z
LAST-MODIFIED:20220512T050807Z
UID:10000152-1655314200-1655323200@digitalimpact.ch
SUMMARY:DIN-Bier
DESCRIPTION:Wir treffen uns zum DIN-Bier ab 17:30 Uhr im Restaurant Mühlirad. \n\n\n\nIm Vordergrund steht wie jedes Mal das ungezwungene Netzwerken und Austauschen. \n\n\n\nWir freuen uns auf bereits bekannte\, aber auch neue Gesichter. \n\n\n\nProgramm \n\n\n\nab 17:30 Uhr: individuelles Eintreffen im Restaurant Mühlirad Berndanach Networking
URL:https://digitalimpact.ch/event/din-bier-3/
LOCATION:Restaurant Mühlirad\, Gerberngasse 4\, Bern\, Bern\, 3011\, Schweiz
CATEGORIES:Bern
ATTACH;FMTTYPE=image/jpeg:https://digitalimpact.ch/wp-content/uploads/2022/01/DIN-Bier-Frühling-scaled.jpg
ORGANIZER;CN="Chapter Bern":MAILTO:bern@digitalimpact.ch
END:VEVENT
BEGIN:VEVENT
DTSTART;TZID=Europe/Zurich:20220504T123000
DTEND;TZID=Europe/Zurich:20220504T143000
DTSTAMP:20260425T214110
CREATED:20220211T140419Z
LAST-MODIFIED:20220211T140847Z
UID:10000142-1651667400-1651674600@digitalimpact.ch
SUMMARY:Workshop digitale Tools für Startups
DESCRIPTION:Spannender Workshop rund um digitale Tools. Dieser Event wird vom Verein Startup Academy Bern angeboten\, aber auch den Mitglieder des DIN dürfen teilnehmen. Der Workshop ist kostenlos\, die Teilnehmerzahl jedoch beschränkt.  \n\n\n\nNeue Webseite\, online Shop\, CRM\, Buchhaltungssoftware\, Marketing Automation oder Kollaborationstools … alles Herausforderungen\, welche Startups ständig begleiten. Bei diesem Workshop werden neben häufig eingesetzten digitalen Tools für diese Einsatzgebiete insbesondere Tipps zur Evaluation gegeben und natürlich individuelle Fragen dazu beantwortet. Du brauchst kein Vorwissen für diesen Workshop. \n\n\n\n \n\n\n\nAnmeldung direkt hier.
URL:https://digitalimpact.ch/event/workshop-digitale-tools-fuer-startups/
LOCATION:Online
CATEGORIES:Bern
ATTACH;FMTTYPE=image/jpeg:https://digitalimpact.ch/wp-content/uploads/2022/02/ToolsfuerStartups.jpg
ORGANIZER;CN="Chapter Bern":MAILTO:bern@digitalimpact.ch
END:VEVENT
BEGIN:VEVENT
DTSTART;TZID=Europe/Zurich:20220120T130000
DTEND;TZID=Europe/Zurich:20220120T140000
DTSTAMP:20260425T214110
CREATED:20211203T082348Z
LAST-MODIFIED:20220119T081845Z
UID:10000137-1642683600-1642687200@digitalimpact.ch
SUMMARY:Einführung: Datenanalyse & Künstliche Intelligenz
DESCRIPTION:Der Begriff „Künstliche Intelligenz“ (kurz KI) ist allgegenwärtig. \n\n\n\nWas bedeutet dieser Begriff? Wann ist der Einsatz von KI in der Datenanalyse sinnvoll oder sogar notwendig? Was sind mögliche Anwendungsszenarien?  \n\n\n\nDieses Inputreferat dient als erste Orientierung in den Themen Datenanalyse und Künstliche Intelligenz. Es sind keine Vorkenntnisse erforderlich.  \n\n\n\nInhalt: \n\n\n\nDie vier AnalysestufenKI Definition & Übersicht AnwendungsbeispielAblauf Datenprojekt & Tipps\n\n\n\n \n\n\n\nDie Referentin:  \n\n\n\nJasmin Frieden verfügt über einen Masterabschluss in Information and Data Science und über einen Bachelorabschluss in Betriebsökonomie.  \n\n\n\nWährend des Masterstudiums arbeitete sie als Datenanalystin bei der Genossenschaft Migros Aare. Seit September 2021 arbeitet sie als Marketing Datenanalystin bei ewb. \n\n\n\n \n\n\n\nDer Event wird via Zoom durchgeführt: https://us02web.zoom.us/j/85635759754?pwd=SnRjaThkQ0VYVE84K2NObFJKNlVFUT09
URL:https://digitalimpact.ch/event/einfuehrung-datenanalyse-kuenstliche-intelligenz/
CATEGORIES:Bern
ATTACH;FMTTYPE=image/jpeg:https://digitalimpact.ch/wp-content/uploads/2021/12/Headerbild.jpg
ORGANIZER;CN="Chapter Bern":MAILTO:bern@digitalimpact.ch
END:VEVENT
BEGIN:VEVENT
DTSTART;TZID=Europe/Zurich:20211201T173000
DTEND;TZID=Europe/Zurich:20211201T213000
DTSTAMP:20260425T214110
CREATED:20211130T103125Z
LAST-MODIFIED:20211130T105329Z
UID:10000135-1638379800-1638394200@digitalimpact.ch
SUMMARY:Winter DIN-Bier
DESCRIPTION:Wir treffen uns am Mittwoch\, 1. Dezember 2021 zum Winter DIN-Bier ab 17:30 Uhr im Restaurant Mühlirad.  \n\n\n\nIm Vordergrund steht wie jedes Mal das ungezwungene Netzwerken und Austauschen.  \n\n\n\nWir freuen uns auf bereits bekannte\, aber auch neue Gesichter. \n\n\n\n \n\n\n\nProgramm \n\n\n\nab 17:30 Uhr: individuelles Eintreffen im Restaurant Mühlirad Berndanach Networking
URL:https://digitalimpact.ch/event/winter-din-bier/
LOCATION:Restaurant Mühlirad\, Gerberngasse 4\, Bern\, Bern\, 3011\, Schweiz
CATEGORIES:Bern
ATTACH;FMTTYPE=image/jpeg:https://digitalimpact.ch/wp-content/uploads/2021/03/Foto-2.jpg
ORGANIZER;CN="Chapter Bern":MAILTO:bern@digitalimpact.ch
END:VEVENT
END:VCALENDAR