BEGIN:VCALENDAR
VERSION:2.0
PRODID:-//Digital Impact Network - ECPv6.15.15//NONSGML v1.0//EN
CALSCALE:GREGORIAN
METHOD:PUBLISH
X-WR-CALNAME:Digital Impact Network
X-ORIGINAL-URL:https://digitalimpact.ch
X-WR-CALDESC:Veranstaltungen für Digital Impact Network
REFRESH-INTERVAL;VALUE=DURATION:PT1H
X-Robots-Tag:noindex
X-PUBLISHED-TTL:PT1H
BEGIN:VTIMEZONE
TZID:Europe/Zurich
BEGIN:DAYLIGHT
TZOFFSETFROM:+0100
TZOFFSETTO:+0200
TZNAME:CEST
DTSTART:20250330T010000
END:DAYLIGHT
BEGIN:STANDARD
TZOFFSETFROM:+0200
TZOFFSETTO:+0100
TZNAME:CET
DTSTART:20251026T010000
END:STANDARD
BEGIN:DAYLIGHT
TZOFFSETFROM:+0100
TZOFFSETTO:+0200
TZNAME:CEST
DTSTART:20260329T010000
END:DAYLIGHT
BEGIN:STANDARD
TZOFFSETFROM:+0200
TZOFFSETTO:+0100
TZNAME:CET
DTSTART:20261025T010000
END:STANDARD
BEGIN:DAYLIGHT
TZOFFSETFROM:+0100
TZOFFSETTO:+0200
TZNAME:CEST
DTSTART:20270328T010000
END:DAYLIGHT
BEGIN:STANDARD
TZOFFSETFROM:+0200
TZOFFSETTO:+0100
TZNAME:CET
DTSTART:20271031T010000
END:STANDARD
END:VTIMEZONE
BEGIN:VEVENT
DTSTART;TZID=Europe/Zurich:20260303T120000
DTEND;TZID=Europe/Zurich:20260303T133000
DTSTAMP:20260422T125658
CREATED:20260219T092849Z
LAST-MODIFIED:20260223T130732Z
UID:10000291-1772539200-1772544600@digitalimpact.ch
SUMMARY:DIN-Mittagstisch
DESCRIPTION:Am DIN-Mittagstisch bietet das Digital Impact Network eine entspannte Gelegenheit\, sich bei einem gemeinsamen Mittagessen auszutauschen und zu vernetzen. \n\n\n\nNach dem Eintreffen der Gäste folgt eine gemeinsames Mittagessen und Networking. \n\n\n\nHinweis: Essen und Getränke sind selbst zu bezahlen. \n\n\n\nNotiere dir die Termine und sei dabei\, wenn wir gemeinsam spannende Gespräche führen und neue Kontakte knüpfen! \n\n\n\nAnmeldung über LinkedIn oder per Mail an kurt.munter@digitalimpact.ch
URL:https://digitalimpact.ch/event/din-mittagstisch-8/
LOCATION:Löwen Restaurant Steakhouse\, Löwengasse 15\, Solothurn\, 4500
CATEGORIES:Solothurn
ATTACH;FMTTYPE=image/png:https://digitalimpact.ch/wp-content/uploads/2025/01/mittag-solothurn.png
END:VEVENT
BEGIN:VEVENT
DTSTART;TZID=Europe/Zurich:20260310T180000
DTEND;TZID=Europe/Zurich:20260310T200000
DTSTAMP:20260422T125658
CREATED:20260209T232503Z
LAST-MODIFIED:20260219T144424Z
UID:10000289-1773165600-1773172800@digitalimpact.ch
SUMMARY:DIN Bier / Green-IT Meetup: Kreislaufwirtschaft in der IT
DESCRIPTION:Die IT ist Rückgrat der digitalen Transformation\, aber zugleich ein wachsender Treiber von Ressourcenverbrauch\, Energiebedarf und Elektroschrott. Nachhaltigkeit in der IT ist längst kein Randthema mehr. Doch wo stehen wir heute wirklich – und was können wir konkret tun? Anhand der Prinzipien der Kreislaufwirtschaft zeigt Manuel Schüpbach von Stryde Consulting in diesem Impulsreferat auf\, welche Handlungsspielräume bestehen und wo die grössten Hebel liegen\, um IT nachhaltig und zirkulär weiterzuentwickeln.Takeaways: Vermeiden von Rebound Effekten\, Hebel für nachhaltige IT. \n\n\n\nFür wen ist die Veranstaltung?C-Level\, CIO\, CDO\, Verantwortliche für Nachhaltigkeit\, Verantwortliche ISO 1400118:00 – 18:30 Impulse Referat «Kreislaufwirtschaft in der IT» (Manuel Schüpbach von Stryde)18:30 – 18:45 Q & A18:45 – 20:00 Freier Austausch \n\n\n\n\n\n\n\nGetränke und Snacks werden von der Edorex zur Verfügung gestellt.  \n\n\n\n\nManuel Schüpbach \n\n\n\nInhaber Stryde Consulting GmbH \n\n\n\n\nAnmeldung direkt über das untenstehende Formular.
URL:https://digitalimpact.ch/event/din-bier-green-it-meetup-kreislaufwirtschaft-in-der-it/
LOCATION:Edorex\, Unterdorfstrasse 5\, Ostermundigen\, 3072
CATEGORIES:Bern
ATTACH;FMTTYPE=image/png:https://digitalimpact.ch/wp-content/uploads/2025/08/din-bier-1500-1000-1024x683-1.png
END:VEVENT
BEGIN:VEVENT
DTSTART;TZID=Europe/Zurich:20260311T183000
DTEND;TZID=Europe/Zurich:20260311T200000
DTSTAMP:20260422T125658
CREATED:20260115T075952Z
LAST-MODIFIED:20260219T144435Z
UID:10000282-1773253800-1773259200@digitalimpact.ch
SUMMARY:WRT Digital: Hilfe\, ich habe gespamt! E-Mail-Sicherheit für KMU
DESCRIPTION:Programm \n\n\n\nViele KMU merken oft zu spät\, dass ihre E-Mails Probleme bereiten: Offerten\, Rechnungen oder Newsletter landen im Spam\, Kundinnen und Kunden reagieren nicht\, oder die eigene Domain wird von Dritten missbraucht. Häufig liegt der Grund in fehlenden oder falsch eingerichteten E-Mail-Sicherheitsstandards. Adrian Etter\, CTO von Silenccio und Fachgruppenleiter Cybersecurity des Digital Impact Network\, erklärt praxisnah und verständlich\, wie SPF\, DKIM und DMARC funktionieren und warum sie entscheidend sind\, um Ihre Domain zu schützen. Anhand konkreter Beispiele wird gezeigt\, wie Sie prüfen können\, ob Ihre Firma betroffen ist\, welche Risiken bestehen und welche einfachen Massnahmen sofort wirken. Den Abschluss bildet ein Netzwerk-Apéro mit Raum für Austausch. Der Abend wird vom Wirtschaftsraum Thun und dem DIN Chapter Thun organisiert.Sind Sie interessiert? Dann geht es hier zur Anmeldung!
URL:https://digitalimpact.ch/event/wrt-digital-hilfe-ich-habe-gespamt-e-mail-sicherheit-fuer-kmu/
LOCATION:Rathaus Thun\, Rathausplatz 1\, Thun\, 3600
CATEGORIES:Thun
ATTACH;FMTTYPE=image/jpeg:https://digitalimpact.ch/wp-content/uploads/2026/01/cyber-4610993_1920.jpg
END:VEVENT
BEGIN:VEVENT
DTSTART;TZID=Europe/Zurich:20260326T170000
DTEND;TZID=Europe/Zurich:20260326T200000
DTSTAMP:20260422T125658
CREATED:20251116T062413Z
LAST-MODIFIED:20260326T090359Z
UID:10000277-1774544400-1774555200@digitalimpact.ch
SUMMARY:Im Takt der Zeit: Digitalisierung im Energiesektor und Präzision bei Moser-Baer
DESCRIPTION:Von der Digitalisierung des Umspannwerks bis zur Transformation des Energiesektors: Erleben Sie zwei spannende Referate\, einen Rundgang bei der Moser-Baer AG und anschliessendes Networking beim Apéro. \n\n\n\nProgramm:Ab 17:00 Eintreffen17:15     Begrüssung mit einer Vorstellung des Digital Impact Network17:20     Begrüssung und Vorstellung der Moser-Baer AG17:30     Präsentation Mobatime DTS 4163 – Gerät für die Synchronisierung eines Umspannwerkes17:50     Referat zum Thema „Digitale Transformation im Energiesektor“ von Dr. David Thiel\, BKW Head Group Projects18:10     Rundgang in der Moser-Baer AG18:40     Apéro und Networking  Ca. 20:00 Ende des EventsWir freuen uns sehr auf Eure Anmeldungen!
URL:https://digitalimpact.ch/event/im-takt-der-zeit/
LOCATION:Moser-Baer AG\, Spitalstrasse 7\, Sumiswald\, Bern\, 3454
CATEGORIES:Emmental-Oberaargau
ATTACH;FMTTYPE=image/png:https://digitalimpact.ch/wp-content/uploads/2025/11/image.png
END:VEVENT
BEGIN:VEVENT
DTSTART;TZID=Europe/Zurich:20260326T173000
DTEND;TZID=Europe/Zurich:20260326T190000
DTSTAMP:20260422T125658
CREATED:20260209T233429Z
LAST-MODIFIED:20260219T144448Z
UID:10000290-1774546200-1774551600@digitalimpact.ch
SUMMARY:DIN-Bier / Fachgruppe Bildung: Die KI schreibt Code schneller als jeder Junior
DESCRIPTION:Erfahrene Entwickler werden mit KI zehn- bis zwanzigmal produktiver. Unternehmen ziehen die logische Konsequenz: Warum noch Berufseinsteiger einstellen\, wenn die Maschine deren Arbeit erledigt?Doch hier liegt der Denkfehler. Ein Senior ist nichts anderes als ein Junior mit Jahren voller Fehler\, Erfolge und Erfahrung. Ohne Nachwuchs heute – keine Experten morgen. \n\n\n\nUnd noch etwas verändert sich grundlegend: Die gefragtesten Skills der Zukunft sind nicht mehr Algorithmen und Syntax. Es sind Sprache\, Präzision in der Formulierung und die Fähigkeit\, Anforderungen zu verstehen – genau das\, was Entwickler bisher am liebsten anderen überliessen.Die Frage ist nicht\, ob KI die Softwareentwicklung verändert. Die Frage ist: Wer entwickelt die Software\, wenn niemand mehr lernen darf\, es zu tun? \n\n\n\n\n\n\n\nProgramm: \n\n\n\n17:30 Input-Referat «Business Analyse heute und morgen»\, Kurt Munter17:50 Panel Diskussionsrunde «Wie können sich Software-Entwickler/innen ihr Business-Verständnis erweitern?»18:20 NetworkingFür wen ist der Event? Auszubildenden\, Bildungsverantwortliche\, C-Level\, Berufsbildner\, Fachbegleiter\, Softwareentwickler.Anmeldung direkt via Formular unten.
URL:https://digitalimpact.ch/event/din-bier-fachgruppe-bildung-die-ki-schreibt-code-schneller-als-jeder-junior/
LOCATION:Nexplore AG\, Zähringerstrasse 45\, Bern\, 3012
CATEGORIES:Bern
ATTACH;FMTTYPE=image/png:https://digitalimpact.ch/wp-content/uploads/2025/08/din-bier-1500-1000-1024x683-1.png
END:VEVENT
END:VCALENDAR