BEGIN:VCALENDAR
VERSION:2.0
PRODID:-//Digital Impact Network - ECPv6.15.15//NONSGML v1.0//EN
CALSCALE:GREGORIAN
METHOD:PUBLISH
X-WR-CALNAME:Digital Impact Network
X-ORIGINAL-URL:https://digitalimpact.ch
X-WR-CALDESC:Veranstaltungen für Digital Impact Network
REFRESH-INTERVAL;VALUE=DURATION:PT1H
X-Robots-Tag:noindex
X-PUBLISHED-TTL:PT1H
BEGIN:VTIMEZONE
TZID:Europe/Zurich
BEGIN:DAYLIGHT
TZOFFSETFROM:+0100
TZOFFSETTO:+0200
TZNAME:CEST
DTSTART:20250330T010000
END:DAYLIGHT
BEGIN:STANDARD
TZOFFSETFROM:+0200
TZOFFSETTO:+0100
TZNAME:CET
DTSTART:20251026T010000
END:STANDARD
BEGIN:DAYLIGHT
TZOFFSETFROM:+0100
TZOFFSETTO:+0200
TZNAME:CEST
DTSTART:20260329T010000
END:DAYLIGHT
BEGIN:STANDARD
TZOFFSETFROM:+0200
TZOFFSETTO:+0100
TZNAME:CET
DTSTART:20261025T010000
END:STANDARD
BEGIN:DAYLIGHT
TZOFFSETFROM:+0100
TZOFFSETTO:+0200
TZNAME:CEST
DTSTART:20270328T010000
END:DAYLIGHT
BEGIN:STANDARD
TZOFFSETFROM:+0200
TZOFFSETTO:+0100
TZNAME:CET
DTSTART:20271031T010000
END:STANDARD
END:VTIMEZONE
BEGIN:VEVENT
DTSTART;TZID=Europe/Zurich:20260422T160000
DTEND;TZID=Europe/Zurich:20260422T200000
DTSTAMP:20260422T015131
CREATED:20260106T124326Z
LAST-MODIFIED:20260319T162808Z
UID:10000281-1776873600-1776888000@digitalimpact.ch
SUMMARY:Generalversammlung 2026
DESCRIPTION:Wir laden alle Mitglieder des Digital Impact Network herzlich zur Generalversammlung am Mittwoch\, dem 22. April 2026\, ein. Neben den statutarischen Traktanden steht vor allem der persönliche Austausch im Fokus. \n\n\n\nProgramm16:00 Uhr Eintreffen 16:30 Uhr BegrüssungProf. Dr. Matthias Stürmer\, Präsident Digital Impact Network16:35 Uhr Fachinput „Mitdenken\, Mitsteuern\, Mitgestalten: Erfolgsfaktoren für KI-gestützte Arbeit“Prof. Dr. Anna Wiedemann\, Berner Fachhochschule und Vorstandsmitglied Digital Impact Network17:05 Uhr Ordentliche Generalversammlung18:15 Uhr Apéro Riche und Networking \n\n\n\nFachinput „Mitdenken\, Mitsteuern\, Mitgestalten: Erfolgsfaktoren für KI-gestützte Arbeit“\n\n\n\nGenerative KI (GenAI) verändert Softwareentwicklung rasant und schafft zugleich neue Belastungsfaktoren für Softwareentwickler wie für Unternehmen. Unsere Forschung zeigt: GenAI wirkt doppelt. Sie erhöht einerseits den Druck\, etwa durch unzuverlässige Ergebnisse oder die Herausforderung\, KI‑Use‑Cases nachhaltig zu skalieren. Andererseits kann GenAI entlasten\, indem sie Routinen automatisiert und Wissen schneller zugänglich macht. \n\n\n\nDiese Ambivalenz macht deutlich\, dass Unternehmen  beim Einsatz von GenAI‑Tools bewusst „im Loop bleiben“ müssen\, um Chancen zuverlässig zu nutzen und Risiken rechtzeitig zu erkennen. \n\n\n\n\nÜber Anna WiedemannAnna ist Dozentin für Wirtschaftsinformatik an der Berner Fachhochschule und forscht zu Themen wie agilem Projektmanagement\, DevOps und dem Einsatz von künstlicher Intelligenz in Organisationen. Zuvor war sie unter anderem bei NTT DATA in der Praxis tätig und bringt somit sowohl wissenschaftliche als auch industrielle Perspektiven ein. In ihrer Arbeit beschäftigt sie sich insbesondere damit\, wie Unternehmen neue Technologien wie KI erfolgreich implementieren und die Zusammenarbeit in Projektteams optimieren können. \n\n\n\n\nWir freuen uns\, viele Mitglieder zur Generalversammlung 2026 in Ittigen begrüssen zu dürfen. Die Generalversammlung findet bei Noser Engineering AG statt. Da die Parkplätze beschränkt sind\, bitten wir euch\, mit den öffentlichen Verkehrsmittel anzureisen. Der Bahnhof Worblaufen ist gleich gegenüber.  \n\n\n\nNoser Engineering AGLindenhofstrasse 13048 Ittigen \n\n\n\nSelbstverständlich dürfen mehrere Personen aus dem gleichen Unternehmen an der Generalversammlung teilnehmen. Bitte beachten Sie dabei\, dass nur eine Person stimmberechtig ist. \n\n\n\nHinweis: Wir bitten euch\, Fragen und Anträge bis am 13. April 2026 per Email an info@digitalimpact.ch zu senden.
URL:https://digitalimpact.ch/event/generalversammlung-2026/
LOCATION:Noser Engineering AG\, Lindenhofstrasse\, Ittigen\, Bern\, 3048\, Switzerland
CATEGORIES:Bern,Biel/Bienne,Emmental-Oberaargau,Oberwallis,Solothurn,Thun
ATTACH;FMTTYPE=image/jpeg:https://digitalimpact.ch/wp-content/uploads/2024/12/RRIM_200225_DIN_GV_2020_5047_LR_web-1536x1025-1.jpg
END:VEVENT
END:VCALENDAR