BEGIN:VCALENDAR
VERSION:2.0
PRODID:-//Digital Impact Network - ECPv6.15.15//NONSGML v1.0//EN
CALSCALE:GREGORIAN
METHOD:PUBLISH
X-ORIGINAL-URL:https://digitalimpact.ch
X-WR-CALDESC:Veranstaltungen für Digital Impact Network
REFRESH-INTERVAL;VALUE=DURATION:PT1H
X-Robots-Tag:noindex
X-PUBLISHED-TTL:PT1H
BEGIN:VTIMEZONE
TZID:Europe/Zurich
BEGIN:DAYLIGHT
TZOFFSETFROM:+0100
TZOFFSETTO:+0200
TZNAME:CEST
DTSTART:20240331T010000
END:DAYLIGHT
BEGIN:STANDARD
TZOFFSETFROM:+0200
TZOFFSETTO:+0100
TZNAME:CET
DTSTART:20241027T010000
END:STANDARD
BEGIN:DAYLIGHT
TZOFFSETFROM:+0100
TZOFFSETTO:+0200
TZNAME:CEST
DTSTART:20250330T010000
END:DAYLIGHT
BEGIN:STANDARD
TZOFFSETFROM:+0200
TZOFFSETTO:+0100
TZNAME:CET
DTSTART:20251026T010000
END:STANDARD
BEGIN:DAYLIGHT
TZOFFSETFROM:+0100
TZOFFSETTO:+0200
TZNAME:CEST
DTSTART:20260329T010000
END:DAYLIGHT
BEGIN:STANDARD
TZOFFSETFROM:+0200
TZOFFSETTO:+0100
TZNAME:CET
DTSTART:20261025T010000
END:STANDARD
END:VTIMEZONE
BEGIN:VEVENT
DTSTART;TZID=Europe/Zurich:20251127T173000
DTEND;TZID=Europe/Zurich:20251127T210000
DTSTAMP:20260421T022514
CREATED:20250211T141041Z
LAST-MODIFIED:20251125T121506Z
UID:10000243-1764264600-1764277200@digitalimpact.ch
SUMMARY:DIN-Bier Thun
DESCRIPTION:Ein Anlass in Zusammenarbeit mit dem Wirtschaftsraum Thun \n\n\n\n\n\nIn Zusammenarbeit mit unserem Partner Wirtschaftsraum Thun laden wir Sie herzlich zu einem inspirierenden Abend in der Brauerei Thun ein.Im Zentrum steht ein Fachvortrag von Peter Lüthi\, Konrektor und Abteilungsleiter ICT an der Wirtschaftsschule Thun. Unter dem Titel «Zukunftsorientierte Karrieren: Die Entwicklung neuer Berufe am Beispiel der Entwickler:innen digitales Business EFZ» zeigt er\, wie neue Berufsbilder entstehen und sich Karrieren im digitalen Zeitalter verändern. Anschliessend erwartet Sie eine exklusive Führung durch die Brauerei Thun mit spannenden Einblicken in die Kunst des Craft Beers und der Möglichkeit\, ausgewählte Spezialitäten zu degustieren.Dieser Event richtet sich an Mitglieder des DIN\, Interessierte an einer Mitgliedschaft sowie alle\, die sich für digitale Innovationen und zukunftsorientierte Karrieren begeistern. \n\n\n\nHier geht’s zur Anmeldung!
URL:https://digitalimpact.ch/event/din-bier-thun/
LOCATION:Brauerei Thun AG\, Kyburgstrasse 9\, Thun\, 3600
CATEGORIES:Thun
ATTACH;FMTTYPE=image/png:https://digitalimpact.ch/wp-content/uploads/2025/02/thunbier-1500x1000-1.png
END:VEVENT
END:VCALENDAR