BEGIN:VCALENDAR
VERSION:2.0
PRODID:-//Digital Impact Network - ECPv6.15.15//NONSGML v1.0//EN
CALSCALE:GREGORIAN
METHOD:PUBLISH
X-ORIGINAL-URL:https://digitalimpact.ch
X-WR-CALDESC:Veranstaltungen für Digital Impact Network
REFRESH-INTERVAL;VALUE=DURATION:PT1H
X-Robots-Tag:noindex
X-PUBLISHED-TTL:PT1H
BEGIN:VTIMEZONE
TZID:Europe/Zurich
BEGIN:DAYLIGHT
TZOFFSETFROM:+0100
TZOFFSETTO:+0200
TZNAME:CEST
DTSTART:20240331T010000
END:DAYLIGHT
BEGIN:STANDARD
TZOFFSETFROM:+0200
TZOFFSETTO:+0100
TZNAME:CET
DTSTART:20241027T010000
END:STANDARD
BEGIN:DAYLIGHT
TZOFFSETFROM:+0100
TZOFFSETTO:+0200
TZNAME:CEST
DTSTART:20250330T010000
END:DAYLIGHT
BEGIN:STANDARD
TZOFFSETFROM:+0200
TZOFFSETTO:+0100
TZNAME:CET
DTSTART:20251026T010000
END:STANDARD
BEGIN:DAYLIGHT
TZOFFSETFROM:+0100
TZOFFSETTO:+0200
TZNAME:CEST
DTSTART:20260329T010000
END:DAYLIGHT
BEGIN:STANDARD
TZOFFSETFROM:+0200
TZOFFSETTO:+0100
TZNAME:CET
DTSTART:20261025T010000
END:STANDARD
END:VTIMEZONE
BEGIN:VEVENT
DTSTART;TZID=Europe/Zurich:20251118T110000
DTEND;TZID=Europe/Zurich:20251118T120000
DTSTAMP:20260421T022356
CREATED:20251021T075724Z
LAST-MODIFIED:20251021T075811Z
UID:10000275-1763463600-1763467200@digitalimpact.ch
SUMMARY:Maximale Compliance und weniger Aufwand
DESCRIPTION:NetSuite\, die weltweite Nr. 1 für cloudbasierte Business-Software mit über 35.000 Kunden und Boss Info\, als Oracle-Partner mit fundierter Erfahrung kennen die Anforderungen der Unternehmen\, insbesondere die spezifischen Vorgaben des Schweizer Marktes. \n\n\n\nAn unserem kostenlosen Webinar erleben Sie wie Sie Ihre NetSuite-Umgebung gezielt mit der von Boss Info entwickelte Oracle Value Add-on Lösung «Schweizer Lokalisierung» erweitern und so Ihre Finanzprozesse gesetzeskonform\, effizient und lokal optimiert gestalten. \n\n\n\nIn einer kompakten Live-Präsentation zeigen wir Ihnen\, wie die einzelnen Module\, z.B. die MWST-Abrechnung nach Schweizer Vorgaben\, Rechnungen mit QR-Einzahlungsschein und die branchenübliche 5-Rappen Rundung funktionieren. \n\n\n\nProgramm\n\n\n\nDienstag\, 18. November 2025 von 11.00–11.45 Uhr \n\n\n\n11.00–11.05 \n\n\n\nBegrüssung\n\n\n\n11.05–11.15 \n\n\n\nEinführung ins Thema\n\n\n\nGesetzliche Grundlagen und nationale Besonderheiten bei der Verwaltung Ihrer Finanzen in der Schweiz. \n\n\n\n11.15–11.30 \n\n\n\nLive-Demo – Value Add-on «Schweizer Lokalisierung»\n\n\n\nSie erleben in einer Live-Präsentation\, wie sich die einzelnen Module in NetSuite integrieren und erfahren mehr über die Funktionsweise und Implementationsaufwand. \n\n\n\n11.30–11.45 \n\n\n\nFragen & Antworten\n\n\n\nUnsere Referenten beantwortet Ihre Fragen. \n\n\n\nHier geht’s zur Anmeldung!
URL:https://digitalimpact.ch/event/maximale-compliance-und-weniger-aufwand/
ATTACH;FMTTYPE=image/jpeg:https://digitalimpact.ch/wp-content/uploads/2025/10/webinar.jpg
END:VEVENT
END:VCALENDAR