BEGIN:VCALENDAR
VERSION:2.0
PRODID:-//Digital Impact Network - ECPv6.15.15//NONSGML v1.0//EN
CALSCALE:GREGORIAN
METHOD:PUBLISH
X-WR-CALNAME:Digital Impact Network
X-ORIGINAL-URL:https://digitalimpact.ch
X-WR-CALDESC:Veranstaltungen für Digital Impact Network
REFRESH-INTERVAL;VALUE=DURATION:PT1H
X-Robots-Tag:noindex
X-PUBLISHED-TTL:PT1H
BEGIN:VTIMEZONE
TZID:Europe/Zurich
BEGIN:DAYLIGHT
TZOFFSETFROM:+0100
TZOFFSETTO:+0200
TZNAME:CEST
DTSTART:20240331T010000
END:DAYLIGHT
BEGIN:STANDARD
TZOFFSETFROM:+0200
TZOFFSETTO:+0100
TZNAME:CET
DTSTART:20241027T010000
END:STANDARD
BEGIN:DAYLIGHT
TZOFFSETFROM:+0100
TZOFFSETTO:+0200
TZNAME:CEST
DTSTART:20250330T010000
END:DAYLIGHT
BEGIN:STANDARD
TZOFFSETFROM:+0200
TZOFFSETTO:+0100
TZNAME:CET
DTSTART:20251026T010000
END:STANDARD
BEGIN:DAYLIGHT
TZOFFSETFROM:+0100
TZOFFSETTO:+0200
TZNAME:CEST
DTSTART:20260329T010000
END:DAYLIGHT
BEGIN:STANDARD
TZOFFSETFROM:+0200
TZOFFSETTO:+0100
TZNAME:CET
DTSTART:20261025T010000
END:STANDARD
END:VTIMEZONE
BEGIN:VEVENT
DTSTART;TZID=Europe/Zurich:20251114T133000
DTEND;TZID=Europe/Zurich:20251114T190000
DTSTAMP:20260421T022232
CREATED:20250828T114659Z
LAST-MODIFIED:20251114T124127Z
UID:10000264-1763127000-1763146800@digitalimpact.ch
SUMMARY:Kaderkonferenz 2025
DESCRIPTION:Die fünfte Kaderkonferenz des Digital Impact Network findet am Freitag\, 14. November 2025 statt. Alle engagierten Mitglieder des Digital Impact Network und diejenigen\, die sich in Zukunft aktiver beteiligen möchten\, sind herzlich eingeladen. \n\n\n\nDie Kaderkonferenz bietet eine hervorragende Gelegenheit für vertiefte Diskussionen\, das Netzwerk zu erweitern und aktiv an der Zukunftgestaltung des Digital Impact Network mitzuwirken. Auch in diesem Jahr möchten wir gemeinsam Perspektiven entwickeln\, Impulse setzen und uns über aktuelle Trends und Herausforderungen der digitalen Transformation austauschen. \n\n\n\nDatum: 14. November 2025Zeit:13:30 – 19:00 UhrOrt: Im Greenfield der Berner Fachhochschule Marzili\, Brückenstrasse 69\, 3005 Bern \n\n\n\nProgramm \n\n\n\n13:30 Uhr Begrüssung und Vorstellung13:50 Uhr Aktueller Stand DIN-Strategie 202514:05 Uhr Was braucht es um mehr Dynamik und Wirkung zu bekommen? 14:20 Uhr Pause14:40 Uhr Arbeitsgruppen zu den Aktivitäten 202615:50 Uhr Pause16:00 Uhr Zusammenfassung und Diskussion im Plenum 17:00 Uhr Apéro Riche \n\n\n\nArbeitsgruppen1. Thema „Chapters & Fachgruppen“; Lead: Beat Rutishauser & Anna Wiedemann2. Thema „Mitglieder & Marketing“; Lead: Evelyn Schwob & David Guntern 3. Thema „Digital Impact Conference 2026“; Lead: Frank Buchli & Raphael Karlen  \n\n\n\nImpressionen vom letzten Jahr
URL:https://digitalimpact.ch/event/kaderkonferenz-2025/
LOCATION:Berner Fachhochschule\, Brückenstrasse 73\, Bern\, 3005
ATTACH;FMTTYPE=image/png:https://digitalimpact.ch/wp-content/uploads/2022/08/Hero_Events.png
END:VEVENT
END:VCALENDAR